BEGIN:VCALENDAR
VERSION:2.0
PRODID:-//Cirque Alfonse - ECPv6.8.3//NONSGML v1.0//EN
CALSCALE:GREGORIAN
METHOD:PUBLISH
X-WR-CALNAME:Cirque Alfonse
X-ORIGINAL-URL:https://cirquealfonse.com
X-WR-CALDESC:Events for Cirque Alfonse
REFRESH-INTERVAL;VALUE=DURATION:PT1H
X-Robots-Tag:noindex
X-PUBLISHED-TTL:PT1H
BEGIN:VTIMEZONE
TZID:America/Toronto
BEGIN:DAYLIGHT
TZOFFSETFROM:-0500
TZOFFSETTO:-0400
TZNAME:EDT
DTSTART:20160313T070000
END:DAYLIGHT
BEGIN:STANDARD
TZOFFSETFROM:-0400
TZOFFSETTO:-0500
TZNAME:EST
DTSTART:20161106T060000
END:STANDARD
END:VTIMEZONE
BEGIN:VEVENT
DTSTART;TZID=America/Toronto:20161213T200000
DTEND;TZID=America/Toronto:20161213T212000
DTSTAMP:20260423T035139
CREATED:20161028T190430Z
LAST-MODIFIED:20161028T190430Z
UID:1302-1481659200-1481664000@cirquealfonse.com
SUMMARY:Timber! @ Winterfest\, Salzburg\, AU
DESCRIPTION:
URL:https://cirquealfonse.com/representation/timber-winterfest-salzburg-au/
LOCATION:Winterfest Salzburg\, Salzburg\, Autriche
END:VEVENT
END:VCALENDAR