BEGIN:VCALENDAR
VERSION:2.0
PRODID:-//Cirque Alfonse - ECPv6.8.3//NONSGML v1.0//EN
CALSCALE:GREGORIAN
METHOD:PUBLISH
X-WR-CALNAME:Cirque Alfonse
X-ORIGINAL-URL:https://cirquealfonse.com
X-WR-CALDESC:Events for Cirque Alfonse
REFRESH-INTERVAL;VALUE=DURATION:PT1H
X-Robots-Tag:noindex
X-PUBLISHED-TTL:PT1H
BEGIN:VTIMEZONE
TZID:America/Toronto
BEGIN:DAYLIGHT
TZOFFSETFROM:-0500
TZOFFSETTO:-0400
TZNAME:EDT
DTSTART:20170312T070000
END:DAYLIGHT
BEGIN:STANDARD
TZOFFSETFROM:-0400
TZOFFSETTO:-0500
TZNAME:EST
DTSTART:20171105T060000
END:STANDARD
END:VTIMEZONE
BEGIN:VEVENT
DTSTART;TZID=America/Toronto:20170820T203000
DTEND;TZID=America/Toronto:20170820T220000
DTSTAMP:20260422T152604
CREATED:20170509T002203Z
LAST-MODIFIED:20170509T002203Z
UID:1907-1503261000-1503266400@cirquealfonse.com
SUMMARY:BARBU @ Prague\, CZ
DESCRIPTION:
URL:https://cirquealfonse.com/representation/barbu-prague-cz-3/
LOCATION:LetNiLetNa festival\, Letensky Park\, République Tchèque
END:VEVENT
END:VCALENDAR