BEGIN:VCALENDAR
VERSION:2.0
PRODID:-//Cirque Alfonse - ECPv6.8.3//NONSGML v1.0//EN
CALSCALE:GREGORIAN
METHOD:PUBLISH
X-ORIGINAL-URL:https://cirquealfonse.com
X-WR-CALDESC:Events for Cirque Alfonse
REFRESH-INTERVAL;VALUE=DURATION:PT1H
X-Robots-Tag:noindex
X-PUBLISHED-TTL:PT1H
BEGIN:VTIMEZONE
TZID:America/Toronto
BEGIN:DAYLIGHT
TZOFFSETFROM:-0500
TZOFFSETTO:-0400
TZNAME:EDT
DTSTART:20180311T070000
END:DAYLIGHT
BEGIN:STANDARD
TZOFFSETFROM:-0400
TZOFFSETTO:-0500
TZNAME:EST
DTSTART:20181104T060000
END:STANDARD
END:VTIMEZONE
BEGIN:VEVENT
DTSTART;TZID=America/Toronto:20180301T203000
DTEND;TZID=America/Toronto:20180301T213000
DTSTAMP:20260422T043421
CREATED:20171216T182222Z
LAST-MODIFIED:20171216T182222Z
UID:2081-1519936200-1519939800@cirquealfonse.com
SUMMARY:TABARNAK @ Adelaide\, AU
DESCRIPTION:
URL:https://cirquealfonse.com/representation/tabarnak-adelaide-au-10/
LOCATION:Peacock at Gluttony\, Adelaide\, SA\, 5000\, Australie
END:VEVENT
END:VCALENDAR