BEGIN:VCALENDAR
VERSION:2.0
PRODID:-//Cirque Alfonse - ECPv6.8.3//NONSGML v1.0//EN
CALSCALE:GREGORIAN
METHOD:PUBLISH
X-ORIGINAL-URL:https://cirquealfonse.com
X-WR-CALDESC:Events for Cirque Alfonse
REFRESH-INTERVAL;VALUE=DURATION:PT1H
X-Robots-Tag:noindex
X-PUBLISHED-TTL:PT1H
BEGIN:VTIMEZONE
TZID:America/Toronto
BEGIN:DAYLIGHT
TZOFFSETFROM:-0500
TZOFFSETTO:-0400
TZNAME:EDT
DTSTART:20180311T070000
END:DAYLIGHT
BEGIN:STANDARD
TZOFFSETFROM:-0400
TZOFFSETTO:-0500
TZNAME:EST
DTSTART:20181104T060000
END:STANDARD
END:VTIMEZONE
BEGIN:VEVENT
DTSTART;TZID=America/Toronto:20180809T200000
DTEND;TZID=America/Toronto:20180809T213000
DTSTAMP:20260421T215339
CREATED:20180529T140444Z
LAST-MODIFIED:20180529T140444Z
UID:2259-1533844800-1533850200@cirquealfonse.com
SUMMARY:TABARNAK @ Edimbourg
DESCRIPTION:
URL:https://cirquealfonse.com/representation/tabarnak-edimbourg-5/
LOCATION:Underbelly’s Circus Hub on the Meadows (Venue 360)\, Middle Meadow Walk\, Egimbourg\, EH9 9EX\, Royaume-Uni
END:VEVENT
END:VCALENDAR