BEGIN:VCALENDAR
VERSION:2.0
PRODID:-//Cirque Alfonse - ECPv6.8.3//NONSGML v1.0//EN
CALSCALE:GREGORIAN
METHOD:PUBLISH
X-WR-CALNAME:Cirque Alfonse
X-ORIGINAL-URL:https://cirquealfonse.com
X-WR-CALDESC:Events for Cirque Alfonse
REFRESH-INTERVAL;VALUE=DURATION:PT1H
X-Robots-Tag:noindex
X-PUBLISHED-TTL:PT1H
BEGIN:VTIMEZONE
TZID:America/Toronto
BEGIN:DAYLIGHT
TZOFFSETFROM:-0500
TZOFFSETTO:-0400
TZNAME:EDT
DTSTART:20190310T070000
END:DAYLIGHT
BEGIN:STANDARD
TZOFFSETFROM:-0400
TZOFFSETTO:-0500
TZNAME:EST
DTSTART:20191103T060000
END:STANDARD
END:VTIMEZONE
BEGIN:VEVENT
DTSTART;TZID=America/Toronto:20190227T194500
DTEND;TZID=America/Toronto:20190227T204500
DTSTAMP:20260421T093828
CREATED:20190120T133658Z
LAST-MODIFIED:20190120T133658Z
UID:2594-1551296700-1551300300@cirquealfonse.com
SUMMARY:BARBU @ Adelaide\, AU
DESCRIPTION:
URL:https://cirquealfonse.com/representation/barbu-adelaide-au-12/
LOCATION:Bonython Hall @ RCC Fringe\, The University of Adelaide\, Adelaide\, SA 5005\, Australie
END:VEVENT
END:VCALENDAR