BEGIN:VCALENDAR
VERSION:2.0
PRODID:-//Cirque Alfonse - ECPv6.8.3//NONSGML v1.0//EN
CALSCALE:GREGORIAN
METHOD:PUBLISH
X-ORIGINAL-URL:https://cirquealfonse.com
X-WR-CALDESC:Events for Cirque Alfonse
REFRESH-INTERVAL;VALUE=DURATION:PT1H
X-Robots-Tag:noindex
X-PUBLISHED-TTL:PT1H
BEGIN:VTIMEZONE
TZID:America/Toronto
BEGIN:DAYLIGHT
TZOFFSETFROM:-0500
TZOFFSETTO:-0400
TZNAME:EDT
DTSTART:20230312T070000
END:DAYLIGHT
BEGIN:STANDARD
TZOFFSETFROM:-0400
TZOFFSETTO:-0500
TZNAME:EST
DTSTART:20231105T060000
END:STANDARD
END:VTIMEZONE
BEGIN:VEVENT
DTSTART;TZID=America/Toronto:20230810T200000
DTEND;TZID=America/Toronto:20230815T210000
DTSTAMP:20260421T020207
CREATED:20230508T192706Z
LAST-MODIFIED:20230508T193010Z
UID:3760-1691697600-1692133200@cirquealfonse.com
SUMMARY:Animal@Sziget Festival Budapest
DESCRIPTION:
URL:https://cirquealfonse.com/representation/animalsziget-festival-budapest/
LOCATION:Sziget Festival\, Hongrie
END:VEVENT
END:VCALENDAR