BEGIN:VCALENDAR
VERSION:2.0
PRODID:-//Cirque Alfonse - ECPv6.8.3//NONSGML v1.0//EN
CALSCALE:GREGORIAN
METHOD:PUBLISH
X-WR-CALNAME:Cirque Alfonse
X-ORIGINAL-URL:https://cirquealfonse.com
X-WR-CALDESC:Events for Cirque Alfonse
REFRESH-INTERVAL;VALUE=DURATION:PT1H
X-Robots-Tag:noindex
X-PUBLISHED-TTL:PT1H
BEGIN:VTIMEZONE
TZID:Europe/Helsinki
BEGIN:DAYLIGHT
TZOFFSETFROM:+0200
TZOFFSETTO:+0300
TZNAME:EEST
DTSTART:20230326T010000
END:DAYLIGHT
BEGIN:STANDARD
TZOFFSETFROM:+0300
TZOFFSETTO:+0200
TZNAME:EET
DTSTART:20231029T010000
END:STANDARD
END:VTIMEZONE
BEGIN:VEVENT
DTSTART;TZID=Europe/Helsinki:20231129T190000
DTEND;TZID=Europe/Helsinki:20231203T170000
DTSTAMP:20260423T160222
CREATED:20231104T153603Z
LAST-MODIFIED:20231104T153626Z
UID:3866-1701284400-1701622800@cirquealfonse.com
SUMMARY:Animal@Espoo (FIN)
DESCRIPTION:
URL:https://cirquealfonse.com/representation/animalespoo-fin/
LOCATION:Espoo Cultural Center\, Finland
END:VEVENT
END:VCALENDAR