BEGIN:VCALENDAR
VERSION:2.0
PRODID:-//Cirque Alfonse - ECPv6.8.3//NONSGML v1.0//EN
CALSCALE:GREGORIAN
METHOD:PUBLISH
X-WR-CALNAME:Cirque Alfonse
X-ORIGINAL-URL:https://cirquealfonse.com
X-WR-CALDESC:Events for Cirque Alfonse
REFRESH-INTERVAL;VALUE=DURATION:PT1H
X-Robots-Tag:noindex
X-PUBLISHED-TTL:PT1H
BEGIN:VTIMEZONE
TZID:America/Toronto
BEGIN:DAYLIGHT
TZOFFSETFROM:-0500
TZOFFSETTO:-0400
TZNAME:EDT
DTSTART:20160313T070000
END:DAYLIGHT
BEGIN:STANDARD
TZOFFSETFROM:-0400
TZOFFSETTO:-0500
TZNAME:EST
DTSTART:20161106T060000
END:STANDARD
END:VTIMEZONE
BEGIN:VEVENT
DTSTART;TZID=America/Toronto:20160701T194500
DTEND;TZID=America/Toronto:20160701T210000
DTSTAMP:20260423T105924
CREATED:20151124T214818Z
LAST-MODIFIED:20151124T214818Z
UID:977-1467402300-1467406800@cirquealfonse.com
SUMMARY:BARBU @ London\,UK
DESCRIPTION:
URL:https://cirquealfonse.com/representation/barbu-londonuk/
LOCATION:Wonderground at Southbank Center\, London\, United Kingdom
END:VEVENT
BEGIN:VEVENT
DTSTART;TZID=America/Toronto:20160702T183000
DTEND;TZID=America/Toronto:20160702T213000
DTSTAMP:20260423T105924
CREATED:20151124T215023Z
LAST-MODIFIED:20151124T215023Z
UID:980-1467484200-1467495000@cirquealfonse.com
SUMMARY:BARBU @ London\,UK
DESCRIPTION:
URL:https://cirquealfonse.com/representation/barbu-londonuk/
LOCATION:Wonderground at Southbank Center\, London\, United Kingdom
END:VEVENT
BEGIN:VEVENT
DTSTART;TZID=America/Toronto:20160703T183000
DTEND;TZID=America/Toronto:20160703T194500
DTSTAMP:20260423T105924
CREATED:20151124T215140Z
LAST-MODIFIED:20151124T215140Z
UID:983-1467570600-1467575100@cirquealfonse.com
SUMMARY:BARBU @ London\,UK
DESCRIPTION:
URL:https://cirquealfonse.com/representation/barbu-londonuk/
LOCATION:Wonderground at Southbank Center\, London\, United Kingdom
END:VEVENT
BEGIN:VEVENT
DTSTART;TZID=America/Toronto:20160705T194500
DTEND;TZID=America/Toronto:20160705T210000
DTSTAMP:20260423T105924
CREATED:20151124T215416Z
LAST-MODIFIED:20151124T215416Z
UID:986-1467747900-1467752400@cirquealfonse.com
SUMMARY:BARBU @ London\,UK
DESCRIPTION:
URL:https://cirquealfonse.com/representation/barbu-londonuk/
LOCATION:Wonderground at Southbank Center\, London\, United Kingdom
END:VEVENT
BEGIN:VEVENT
DTSTART;TZID=America/Toronto:20160706T194500
DTEND;TZID=America/Toronto:20160706T210000
DTSTAMP:20260423T105924
CREATED:20151124T215533Z
LAST-MODIFIED:20151124T215533Z
UID:989-1467834300-1467838800@cirquealfonse.com
SUMMARY:BARBU @ London\,UK
DESCRIPTION:
URL:https://cirquealfonse.com/representation/barbu-londonuk/
LOCATION:Wonderground at Southbank Center\, London\, United Kingdom
END:VEVENT
BEGIN:VEVENT
DTSTART;TZID=America/Toronto:20160707T194500
DTEND;TZID=America/Toronto:20160707T210000
DTSTAMP:20260423T105924
CREATED:20151124T215646Z
LAST-MODIFIED:20151124T215646Z
UID:992-1467920700-1467925200@cirquealfonse.com
SUMMARY:BARBU @ London\,UK
DESCRIPTION:
URL:https://cirquealfonse.com/representation/barbu-londonuk/
LOCATION:Wonderground at Southbank Center\, London\, United Kingdom
END:VEVENT
BEGIN:VEVENT
DTSTART;TZID=America/Toronto:20160708T194500
DTEND;TZID=America/Toronto:20160708T210000
DTSTAMP:20260423T105924
CREATED:20151124T215808Z
LAST-MODIFIED:20151124T215808Z
UID:995-1468007100-1468011600@cirquealfonse.com
SUMMARY:BARBU @ London\,UK
DESCRIPTION:
URL:https://cirquealfonse.com/representation/barbu-londonuk/
LOCATION:Wonderground at Southbank Center\, London\, United Kingdom
END:VEVENT
BEGIN:VEVENT
DTSTART;TZID=America/Toronto:20160709T183000
DTEND;TZID=America/Toronto:20160709T213000
DTSTAMP:20260423T105924
CREATED:20151124T215923Z
LAST-MODIFIED:20151124T215923Z
UID:998-1468089000-1468099800@cirquealfonse.com
SUMMARY:BARBU @ London\,UK
DESCRIPTION:
URL:https://cirquealfonse.com/representation/barbu-londonuk/
LOCATION:Wonderground at Southbank Center\, London\, United Kingdom
END:VEVENT
BEGIN:VEVENT
DTSTART;TZID=America/Toronto:20160710T183000
DTEND;TZID=America/Toronto:20160710T194500
DTSTAMP:20260423T105924
CREATED:20151124T220038Z
LAST-MODIFIED:20151124T220038Z
UID:1001-1468175400-1468179900@cirquealfonse.com
SUMMARY:BARBU @ London\,UK
DESCRIPTION:
URL:https://cirquealfonse.com/representation/barbu-londonuk/
LOCATION:Wonderground at Southbank Center\, London\, United Kingdom
END:VEVENT
BEGIN:VEVENT
DTSTART;TZID=America/Toronto:20160712T194500
DTEND;TZID=America/Toronto:20160712T210000
DTSTAMP:20260423T105924
CREATED:20151125T083158Z
LAST-MODIFIED:20151125T083158Z
UID:1004-1468352700-1468357200@cirquealfonse.com
SUMMARY:BARBU @ London\,UK
DESCRIPTION:
URL:https://cirquealfonse.com/representation/barbu-londonuk/
LOCATION:Wonderground at Southbank Center\, London\, United Kingdom
END:VEVENT
BEGIN:VEVENT
DTSTART;TZID=America/Toronto:20160713T194500
DTEND;TZID=America/Toronto:20160713T210000
DTSTAMP:20260423T105924
CREATED:20151125T083315Z
LAST-MODIFIED:20151125T083338Z
UID:1007-1468439100-1468443600@cirquealfonse.com
SUMMARY:BARBU @ London\,UK
DESCRIPTION:
URL:https://cirquealfonse.com/representation/barbu-londonuk-2/
LOCATION:Wonderground at Southbank Center\, London\, United Kingdom
END:VEVENT
BEGIN:VEVENT
DTSTART;TZID=America/Toronto:20160714T194500
DTEND;TZID=America/Toronto:20160714T210000
DTSTAMP:20260423T105924
CREATED:20151125T083442Z
LAST-MODIFIED:20151125T083442Z
UID:1010-1468525500-1468530000@cirquealfonse.com
SUMMARY:BARBU @ London\,UK
DESCRIPTION:
URL:https://cirquealfonse.com/representation/barbu-londonuk/
LOCATION:Wonderground at Southbank Center\, London\, United Kingdom
END:VEVENT
BEGIN:VEVENT
DTSTART;TZID=America/Toronto:20160715T194500
DTEND;TZID=America/Toronto:20160715T210000
DTSTAMP:20260423T105924
CREATED:20151125T083542Z
LAST-MODIFIED:20151125T083542Z
UID:1013-1468611900-1468616400@cirquealfonse.com
SUMMARY:BARBU @ London\,UK
DESCRIPTION:
URL:https://cirquealfonse.com/representation/barbu-londonuk/
LOCATION:Wonderground at Southbank Center\, London\, United Kingdom
END:VEVENT
BEGIN:VEVENT
DTSTART;TZID=America/Toronto:20160716T183000
DTEND;TZID=America/Toronto:20160716T213000
DTSTAMP:20260423T105924
CREATED:20151125T083646Z
LAST-MODIFIED:20151125T083646Z
UID:1016-1468693800-1468704600@cirquealfonse.com
SUMMARY:BARBU @ London\,UK
DESCRIPTION:
URL:https://cirquealfonse.com/representation/barbu-londonuk/
END:VEVENT
BEGIN:VEVENT
DTSTART;TZID=America/Toronto:20160717T183000
DTEND;TZID=America/Toronto:20160717T194500
DTSTAMP:20260423T105924
CREATED:20151125T083759Z
LAST-MODIFIED:20151125T083759Z
UID:1019-1468780200-1468784700@cirquealfonse.com
SUMMARY:BARBU @ London\,UK
DESCRIPTION:
URL:https://cirquealfonse.com/representation/barbu-londonuk/
LOCATION:Wonderground at Southbank Center\, London\, United Kingdom
END:VEVENT
BEGIN:VEVENT
DTSTART;TZID=America/Toronto:20160719T193000
DTEND;TZID=America/Toronto:20160719T204500
DTSTAMP:20260423T105924
CREATED:20151125T083924Z
LAST-MODIFIED:20151125T083924Z
UID:1022-1468956600-1468961100@cirquealfonse.com
SUMMARY:BARBU @ London\,UK
DESCRIPTION:
URL:https://cirquealfonse.com/representation/barbu-londonuk/
LOCATION:Wonderground at Southbank Center\, London\, United Kingdom
END:VEVENT
BEGIN:VEVENT
DTSTART;TZID=America/Toronto:20160720T193000
DTEND;TZID=America/Toronto:20160720T204500
DTSTAMP:20260423T105924
CREATED:20151125T084030Z
LAST-MODIFIED:20151125T084030Z
UID:1025-1469043000-1469047500@cirquealfonse.com
SUMMARY:BARBU @ London\,UK
DESCRIPTION:
URL:https://cirquealfonse.com/representation/barbu-londonuk/
LOCATION:Wonderground at Southbank Center\, London\, United Kingdom
END:VEVENT
BEGIN:VEVENT
DTSTART;TZID=America/Toronto:20160721T193000
DTEND;TZID=America/Toronto:20160721T204500
DTSTAMP:20260423T105924
CREATED:20151125T084231Z
LAST-MODIFIED:20151125T084243Z
UID:1028-1469129400-1469133900@cirquealfonse.com
SUMMARY:BARBU @ London\,UK
DESCRIPTION:
URL:https://cirquealfonse.com/representation/barbu-londonuk-3/
LOCATION:Wonderground at Southbank Center\, London\, United Kingdom
END:VEVENT
BEGIN:VEVENT
DTSTART;TZID=America/Toronto:20160722T193000
DTEND;TZID=America/Toronto:20160722T204500
DTSTAMP:20260423T105924
CREATED:20151125T084432Z
LAST-MODIFIED:20151125T084432Z
UID:1031-1469215800-1469220300@cirquealfonse.com
SUMMARY:BARBU @ London\,UK
DESCRIPTION:
URL:https://cirquealfonse.com/representation/barbu-londonuk/
LOCATION:Wonderground at Southbank Center\, London\, United Kingdom
END:VEVENT
BEGIN:VEVENT
DTSTART;TZID=America/Toronto:20160723T180000
DTEND;TZID=America/Toronto:20160723T203000
DTSTAMP:20260423T105924
CREATED:20151125T084612Z
LAST-MODIFIED:20151125T084612Z
UID:1034-1469296800-1469305800@cirquealfonse.com
SUMMARY:BARBU @ London\,UK
DESCRIPTION:
URL:https://cirquealfonse.com/representation/barbu-londonuk/
LOCATION:Wonderground at Southbank Center\, London\, United Kingdom
END:VEVENT
BEGIN:VEVENT
DTSTART;TZID=America/Toronto:20160724T193000
DTEND;TZID=America/Toronto:20160724T204500
DTSTAMP:20260423T105924
CREATED:20151125T084759Z
LAST-MODIFIED:20151125T084759Z
UID:1037-1469388600-1469393100@cirquealfonse.com
SUMMARY:BARBU @ London\,UK
DESCRIPTION:
URL:https://cirquealfonse.com/representation/barbu-londonuk/
LOCATION:Wonderground at Southbank Center\, London\, United Kingdom
END:VEVENT
BEGIN:VEVENT
DTSTART;TZID=America/Toronto:20160728T193000
DTEND;TZID=America/Toronto:20160728T204500
DTSTAMP:20260423T105924
CREATED:20151125T084915Z
LAST-MODIFIED:20151125T084915Z
UID:1040-1469734200-1469738700@cirquealfonse.com
SUMMARY:BARBU @ London\,UK
DESCRIPTION:
URL:https://cirquealfonse.com/representation/barbu-londonuk/
LOCATION:Wonderground at Southbank Center\, London\, United Kingdom
END:VEVENT
BEGIN:VEVENT
DTSTART;TZID=America/Toronto:20160729T193000
DTEND;TZID=America/Toronto:20160729T204500
DTSTAMP:20260423T105924
CREATED:20151125T085032Z
LAST-MODIFIED:20151125T085033Z
UID:1043-1469820600-1469825100@cirquealfonse.com
SUMMARY:BARBU @ London\,UK
DESCRIPTION:
URL:https://cirquealfonse.com/representation/barbu-londonuk/
LOCATION:Wonderground at Southbank Center\, London\, United Kingdom
END:VEVENT
BEGIN:VEVENT
DTSTART;TZID=America/Toronto:20160730T180000
DTEND;TZID=America/Toronto:20160730T203000
DTSTAMP:20260423T105924
CREATED:20151125T085142Z
LAST-MODIFIED:20151125T085142Z
UID:1046-1469901600-1469910600@cirquealfonse.com
SUMMARY:BARBU @ London\,UK
DESCRIPTION:
URL:https://cirquealfonse.com/representation/barbu-londonuk/
LOCATION:Wonderground at Southbank Center\, London\, United Kingdom
END:VEVENT
BEGIN:VEVENT
DTSTART;TZID=America/Toronto:20160731T193000
DTEND;TZID=America/Toronto:20160731T204500
DTSTAMP:20260423T105924
CREATED:20151125T085402Z
LAST-MODIFIED:20151125T085402Z
UID:1049-1469993400-1469997900@cirquealfonse.com
SUMMARY:BARBU @ London\,UK
DESCRIPTION:
URL:https://cirquealfonse.com/representation/barbu-londonuk/
LOCATION:Wonderground at Southbank Center\, London\, United Kingdom
END:VEVENT
END:VCALENDAR