BEGIN:VCALENDAR
VERSION:2.0
PRODID:-//Cirque Alfonse - ECPv6.8.3//NONSGML v1.0//EN
CALSCALE:GREGORIAN
METHOD:PUBLISH
X-ORIGINAL-URL:https://cirquealfonse.com
X-WR-CALDESC:Events for Cirque Alfonse
REFRESH-INTERVAL;VALUE=DURATION:PT1H
X-Robots-Tag:noindex
X-PUBLISHED-TTL:PT1H
BEGIN:VTIMEZONE
TZID:America/Toronto
BEGIN:DAYLIGHT
TZOFFSETFROM:-0500
TZOFFSETTO:-0400
TZNAME:EDT
DTSTART:20160313T070000
END:DAYLIGHT
BEGIN:STANDARD
TZOFFSETFROM:-0400
TZOFFSETTO:-0500
TZNAME:EST
DTSTART:20161106T060000
END:STANDARD
END:VTIMEZONE
BEGIN:VEVENT
DTSTART;VALUE=DATE:20161115
DTEND;VALUE=DATE:20161116
DTSTAMP:20260423T040108
CREATED:20160901T121651Z
LAST-MODIFIED:20160901T121651Z
UID:1233-1479168000-1479254399@cirquealfonse.com
SUMMARY:Timber! @ Zurich
DESCRIPTION:
URL:https://cirquealfonse.com/representation/timber-zurich/
LOCATION:MAAG Halle\, Zurich\, Suisse
END:VEVENT
BEGIN:VEVENT
DTSTART;VALUE=DATE:20161116
DTEND;VALUE=DATE:20161117
DTSTAMP:20260423T040108
CREATED:20160901T121816Z
LAST-MODIFIED:20160901T121816Z
UID:1239-1479254400-1479340799@cirquealfonse.com
SUMMARY:Timber! @ Zurich
DESCRIPTION:
URL:https://cirquealfonse.com/representation/timber-zurich/
LOCATION:MAAG Halle\, Zurich\, Suisse
END:VEVENT
BEGIN:VEVENT
DTSTART;VALUE=DATE:20161117
DTEND;VALUE=DATE:20161118
DTSTAMP:20260423T040108
CREATED:20160901T121928Z
LAST-MODIFIED:20160901T121928Z
UID:1244-1479340800-1479427199@cirquealfonse.com
SUMMARY:Timber! @ Zurich
DESCRIPTION:
URL:https://cirquealfonse.com/representation/timber-zurich/
LOCATION:MAAG Halle\, Zurich\, Suisse
END:VEVENT
BEGIN:VEVENT
DTSTART;VALUE=DATE:20161118
DTEND;VALUE=DATE:20161119
DTSTAMP:20260423T040108
CREATED:20160901T122015Z
LAST-MODIFIED:20160901T122015Z
UID:1247-1479427200-1479513599@cirquealfonse.com
SUMMARY:Timber! @ Zurich
DESCRIPTION:
URL:https://cirquealfonse.com/representation/timber-zurich/
LOCATION:MAAG Halle\, Zurich\, Suisse
END:VEVENT
BEGIN:VEVENT
DTSTART;VALUE=DATE:20161119
DTEND;VALUE=DATE:20161120
DTSTAMP:20260423T040108
CREATED:20160901T122112Z
LAST-MODIFIED:20160901T122112Z
UID:1250-1479513600-1479599999@cirquealfonse.com
SUMMARY:Timber! @ Zurich
DESCRIPTION:
URL:https://cirquealfonse.com/representation/timber-zurich/
LOCATION:MAAG Halle\, Zurich\, Suisse
END:VEVENT
BEGIN:VEVENT
DTSTART;VALUE=DATE:20161120
DTEND;VALUE=DATE:20161121
DTSTAMP:20260423T040108
CREATED:20160901T122146Z
LAST-MODIFIED:20160901T122228Z
UID:1253-1479600000-1479686399@cirquealfonse.com
SUMMARY:Timber! @ Zurich
DESCRIPTION:
URL:https://cirquealfonse.com/representation/timber-zurich-2/
LOCATION:MAAG Halle\, Zurich\, Suisse
END:VEVENT
BEGIN:VEVENT
DTSTART;VALUE=DATE:20161122
DTEND;VALUE=DATE:20161123
DTSTAMP:20260423T040108
CREATED:20160901T122320Z
LAST-MODIFIED:20160901T122320Z
UID:1256-1479772800-1479859199@cirquealfonse.com
SUMMARY:Timber! @ Zurich
DESCRIPTION:
URL:https://cirquealfonse.com/representation/timber-zurich/
LOCATION:MAAG Halle\, Zurich\, Suisse
END:VEVENT
BEGIN:VEVENT
DTSTART;VALUE=DATE:20161123
DTEND;VALUE=DATE:20161124
DTSTAMP:20260423T040108
CREATED:20160901T122440Z
LAST-MODIFIED:20160901T122440Z
UID:1259-1479859200-1479945599@cirquealfonse.com
SUMMARY:Timber! @ Zurich
DESCRIPTION:
URL:https://cirquealfonse.com/representation/timber-zurich/
LOCATION:MAAG Halle\, Zurich\, Suisse
END:VEVENT
BEGIN:VEVENT
DTSTART;VALUE=DATE:20161124
DTEND;VALUE=DATE:20161125
DTSTAMP:20260423T040108
CREATED:20160901T122539Z
LAST-MODIFIED:20160901T122539Z
UID:1262-1479945600-1480031999@cirquealfonse.com
SUMMARY:Timber! @ Zurich
DESCRIPTION:
URL:https://cirquealfonse.com/representation/timber-zurich/
LOCATION:MAAG Halle\, Zurich\, Suisse
END:VEVENT
BEGIN:VEVENT
DTSTART;VALUE=DATE:20161126
DTEND;VALUE=DATE:20161127
DTSTAMP:20260423T040108
CREATED:20160901T122623Z
LAST-MODIFIED:20160901T122623Z
UID:1265-1480118400-1480204799@cirquealfonse.com
SUMMARY:Timber! @ Zurich
DESCRIPTION:
URL:https://cirquealfonse.com/representation/timber-zurich/
LOCATION:MAAG Halle\, Zurich\, Suisse
END:VEVENT
BEGIN:VEVENT
DTSTART;TZID=America/Toronto:20161130T200000
DTEND;TZID=America/Toronto:20161130T212000
DTSTAMP:20260423T040108
CREATED:20161028T185020Z
LAST-MODIFIED:20161028T185020Z
UID:1276-1480536000-1480540800@cirquealfonse.com
SUMMARY:Timber! @ Winterfest\, Salzburg\, AU
DESCRIPTION:
URL:https://cirquealfonse.com/representation/timber-winterfest-salzburg-au/
LOCATION:Winterfest Salzburg\, Salzburg\, Autriche
END:VEVENT
END:VCALENDAR