BEGIN:VCALENDAR
VERSION:2.0
PRODID:-//Cirque Alfonse - ECPv6.8.3//NONSGML v1.0//EN
CALSCALE:GREGORIAN
METHOD:PUBLISH
X-WR-CALNAME:Cirque Alfonse
X-ORIGINAL-URL:https://cirquealfonse.com
X-WR-CALDESC:Events for Cirque Alfonse
REFRESH-INTERVAL;VALUE=DURATION:PT1H
X-Robots-Tag:noindex
X-PUBLISHED-TTL:PT1H
BEGIN:VTIMEZONE
TZID:America/Toronto
BEGIN:DAYLIGHT
TZOFFSETFROM:-0500
TZOFFSETTO:-0400
TZNAME:EDT
DTSTART:20170312T070000
END:DAYLIGHT
BEGIN:STANDARD
TZOFFSETFROM:-0400
TZOFFSETTO:-0500
TZNAME:EST
DTSTART:20171105T060000
END:STANDARD
END:VTIMEZONE
BEGIN:VEVENT
DTSTART;TZID=America/Toronto:20170301T190000
DTEND;TZID=America/Toronto:20170301T203000
DTSTAMP:20260422T215151
CREATED:20161115T193552Z
LAST-MODIFIED:20161115T193552Z
UID:1424-1488394800-1488400200@cirquealfonse.com
SUMMARY:BARBU @ Sydney\, AU
DESCRIPTION:
URL:https://cirquealfonse.com/representation/barbu-sydney-au/
LOCATION:Sydney Opera House\, Australie
END:VEVENT
BEGIN:VEVENT
DTSTART;TZID=America/Toronto:20170302T190000
DTEND;TZID=America/Toronto:20170302T203000
DTSTAMP:20260422T215151
CREATED:20161115T193702Z
LAST-MODIFIED:20161115T193702Z
UID:1427-1488481200-1488486600@cirquealfonse.com
SUMMARY:BARBU @ Sydney\, AU
DESCRIPTION:
URL:https://cirquealfonse.com/representation/barbu-sydney-au/
LOCATION:Sydney Opera House\, Australie
END:VEVENT
BEGIN:VEVENT
DTSTART;TZID=America/Toronto:20170303T190000
DTEND;TZID=America/Toronto:20170303T230000
DTSTAMP:20260422T215151
CREATED:20161115T193756Z
LAST-MODIFIED:20161115T193756Z
UID:1430-1488567600-1488582000@cirquealfonse.com
SUMMARY:BARBU @ Sydney\, AU
DESCRIPTION:
URL:https://cirquealfonse.com/representation/barbu-sydney-au/
LOCATION:Sydney Opera House\, Australie
END:VEVENT
BEGIN:VEVENT
DTSTART;TZID=America/Toronto:20170304T190000
DTEND;TZID=America/Toronto:20170304T203000
DTSTAMP:20260422T215151
CREATED:20161115T193853Z
LAST-MODIFIED:20161115T193853Z
UID:1433-1488654000-1488659400@cirquealfonse.com
SUMMARY:BARBU @ Sydney\, AU
DESCRIPTION:
URL:https://cirquealfonse.com/representation/barbu-sydney-au/
LOCATION:Sydney Opera House\, Australie
END:VEVENT
BEGIN:VEVENT
DTSTART;TZID=America/Toronto:20170309T203000
DTEND;TZID=America/Toronto:20170309T220000
DTSTAMP:20260422T215151
CREATED:20161115T200027Z
LAST-MODIFIED:20161115T200027Z
UID:1440-1489091400-1489096800@cirquealfonse.com
SUMMARY:BARBU @ Adelaide\, AU
DESCRIPTION:
URL:https://cirquealfonse.com/representation/barbu-adelaide-au/
LOCATION:Peacock at Gluttony\, Adelaide\, SA\, 5000\, Australie
END:VEVENT
BEGIN:VEVENT
DTSTART;TZID=America/Toronto:20170310T203000
DTEND;TZID=America/Toronto:20170310T235500
DTSTAMP:20260422T215151
CREATED:20161115T200130Z
LAST-MODIFIED:20161115T200130Z
UID:1443-1489177800-1489190100@cirquealfonse.com
SUMMARY:BARBU @ Adelaide\, AU
DESCRIPTION:
URL:https://cirquealfonse.com/representation/barbu-adelaide-au/
LOCATION:Peacock at Gluttony\, Adelaide\, SA\, 5000\, Australie
END:VEVENT
BEGIN:VEVENT
DTSTART;TZID=America/Toronto:20170311T203000
DTEND;TZID=America/Toronto:20170311T235500
DTSTAMP:20260422T215151
CREATED:20161115T200237Z
LAST-MODIFIED:20161115T200237Z
UID:1446-1489264200-1489276500@cirquealfonse.com
SUMMARY:BARBU @ Adelaide\, AU
DESCRIPTION:
URL:https://cirquealfonse.com/representation/barbu-adelaide-au/
LOCATION:Peacock at Gluttony\, Adelaide\, SA\, 5000\, Australie
END:VEVENT
BEGIN:VEVENT
DTSTART;TZID=America/Toronto:20170312T203000
DTEND;TZID=America/Toronto:20170312T220000
DTSTAMP:20260422T215151
CREATED:20161115T200325Z
LAST-MODIFIED:20161115T200325Z
UID:1449-1489350600-1489356000@cirquealfonse.com
SUMMARY:BARBU @ Adelaide\, AU
DESCRIPTION:
URL:https://cirquealfonse.com/representation/barbu-adelaide-au/
LOCATION:Peacock at Gluttony\, Adelaide\, SA\, 5000\, Australie
END:VEVENT
BEGIN:VEVENT
DTSTART;TZID=America/Toronto:20170313T203000
DTEND;TZID=America/Toronto:20170313T220000
DTSTAMP:20260422T215151
CREATED:20161115T200418Z
LAST-MODIFIED:20161115T200418Z
UID:1452-1489437000-1489442400@cirquealfonse.com
SUMMARY:BARBU @ Adelaide\, AU
DESCRIPTION:
URL:https://cirquealfonse.com/representation/barbu-adelaide-au/
LOCATION:Peacock at Gluttony\, Adelaide\, SA\, 5000\, Australie
END:VEVENT
BEGIN:VEVENT
DTSTART;TZID=America/Toronto:20170315T203000
DTEND;TZID=America/Toronto:20170315T220000
DTSTAMP:20260422T215151
CREATED:20161115T200506Z
LAST-MODIFIED:20161115T200506Z
UID:1455-1489609800-1489615200@cirquealfonse.com
SUMMARY:BARBU @ Adelaide\, AU
DESCRIPTION:
URL:https://cirquealfonse.com/representation/barbu-adelaide-au/
LOCATION:Peacock at Gluttony\, Adelaide\, SA\, 5000\, Australie
END:VEVENT
BEGIN:VEVENT
DTSTART;TZID=America/Toronto:20170316T200000
DTEND;TZID=America/Toronto:20170316T213000
DTSTAMP:20260422T215151
CREATED:20161115T200552Z
LAST-MODIFIED:20161115T200552Z
UID:1458-1489694400-1489699800@cirquealfonse.com
SUMMARY:BARBU @ Adelaide\, AU
DESCRIPTION:
URL:https://cirquealfonse.com/representation/barbu-adelaide-au/
LOCATION:Peacock at Gluttony\, Adelaide\, SA\, 5000\, Australie
END:VEVENT
BEGIN:VEVENT
DTSTART;TZID=America/Toronto:20170317T203000
DTEND;TZID=America/Toronto:20170317T235500
DTSTAMP:20260422T215151
CREATED:20161115T200654Z
LAST-MODIFIED:20161115T200654Z
UID:1461-1489782600-1489794900@cirquealfonse.com
SUMMARY:BARBU @ Adelaide\, AU
DESCRIPTION:
URL:https://cirquealfonse.com/representation/barbu-adelaide-au/
LOCATION:Peacock at Gluttony\, Adelaide\, SA\, 5000\, Australie
END:VEVENT
BEGIN:VEVENT
DTSTART;TZID=America/Toronto:20170318T203000
DTEND;TZID=America/Toronto:20170318T210000
DTSTAMP:20260422T215151
CREATED:20161115T195937Z
LAST-MODIFIED:20161115T201037Z
UID:1436-1489869000-1489870800@cirquealfonse.com
SUMMARY:BARBU @ Adelaide\, AU
DESCRIPTION:
URL:https://cirquealfonse.com/representation/barbu-adelaide-au-2/
LOCATION:Peacock at Gluttony\, Adelaide\, SA\, 5000\, Australie
END:VEVENT
BEGIN:VEVENT
DTSTART;TZID=America/Toronto:20170319T203000
DTEND;TZID=America/Toronto:20170319T220000
DTSTAMP:20260422T215151
CREATED:20161115T200840Z
LAST-MODIFIED:20161115T200840Z
UID:1467-1489955400-1489960800@cirquealfonse.com
SUMMARY:BARBU @ Adelaide\, AU
DESCRIPTION:
URL:https://cirquealfonse.com/representation/barbu-adelaide-au/
LOCATION:Peacock at Gluttony\, Adelaide\, SA\, 5000\, Australie
END:VEVENT
END:VCALENDAR