BEGIN:VCALENDAR
VERSION:2.0
PRODID:-//Cirque Alfonse - ECPv6.8.3//NONSGML v1.0//EN
CALSCALE:GREGORIAN
METHOD:PUBLISH
X-WR-CALNAME:Cirque Alfonse
X-ORIGINAL-URL:https://cirquealfonse.com
X-WR-CALDESC:Events for Cirque Alfonse
REFRESH-INTERVAL;VALUE=DURATION:PT1H
X-Robots-Tag:noindex
X-PUBLISHED-TTL:PT1H
BEGIN:VTIMEZONE
TZID:America/Toronto
BEGIN:DAYLIGHT
TZOFFSETFROM:-0500
TZOFFSETTO:-0400
TZNAME:EDT
DTSTART:20170312T070000
END:DAYLIGHT
BEGIN:STANDARD
TZOFFSETFROM:-0400
TZOFFSETTO:-0500
TZNAME:EST
DTSTART:20171105T060000
END:STANDARD
END:VTIMEZONE
BEGIN:VEVENT
DTSTART;TZID=America/Toronto:20170705T200000
DTEND;TZID=America/Toronto:20170705T213000
DTSTAMP:20260422T152747
CREATED:20170508T230335Z
LAST-MODIFIED:20170508T230335Z
UID:1862-1499284800-1499290200@cirquealfonse.com
SUMMARY:Tabarnak @ Montreal\,QC
DESCRIPTION:
URL:https://cirquealfonse.com/representation/tabarnak-montrealqc/
LOCATION:TOHU\, 2345\, Jarry Est\, Montreal\, Quebec\, h1z4p3\, Canada
END:VEVENT
BEGIN:VEVENT
DTSTART;TZID=America/Toronto:20170706T200000
DTEND;TZID=America/Toronto:20170706T213000
DTSTAMP:20260422T152747
CREATED:20170508T230512Z
LAST-MODIFIED:20170508T230512Z
UID:1866-1499371200-1499376600@cirquealfonse.com
SUMMARY:Tabarnak @ Montreal\,QC
DESCRIPTION:
URL:https://cirquealfonse.com/representation/tabarnak-montrealqc-2/
LOCATION:TOHU\, 2345\, Jarry Est\, Montreal\, Quebec\, h1z4p3\, Canada
END:VEVENT
BEGIN:VEVENT
DTSTART;TZID=America/Toronto:20170707T200000
DTEND;TZID=America/Toronto:20170707T213000
DTSTAMP:20260422T152747
CREATED:20170508T230648Z
LAST-MODIFIED:20170508T230648Z
UID:1869-1499457600-1499463000@cirquealfonse.com
SUMMARY:Tabarnak @ Montreal\,QC
DESCRIPTION:
URL:https://cirquealfonse.com/representation/tabarnak-montrealqc-3/
LOCATION:TOHU\, 2345\, Jarry Est\, Montreal\, Quebec\, h1z4p3\, Canada
END:VEVENT
BEGIN:VEVENT
DTSTART;TZID=America/Toronto:20170708T140000
DTEND;TZID=America/Toronto:20170708T213000
DTSTAMP:20260422T152747
CREATED:20170508T230843Z
LAST-MODIFIED:20170508T230843Z
UID:1872-1499522400-1499549400@cirquealfonse.com
SUMMARY:Tabarnak @ Montreal\,QC
DESCRIPTION:
URL:https://cirquealfonse.com/representation/tabarnak-montrealqc-4/
LOCATION:TOHU\, 2345\, Jarry Est\, Montreal\, Quebec\, h1z4p3\, Canada
END:VEVENT
BEGIN:VEVENT
DTSTART;TZID=America/Toronto:20170709T140000
DTEND;TZID=America/Toronto:20170709T153000
DTSTAMP:20260422T152747
CREATED:20170508T230951Z
LAST-MODIFIED:20170508T230951Z
UID:1875-1499608800-1499614200@cirquealfonse.com
SUMMARY:Tabarnak @ Montreal\,QC
DESCRIPTION:
URL:https://cirquealfonse.com/representation/tabarnak-montrealqc-5/
LOCATION:TOHU\, 2345\, Jarry Est\, Montreal\, Quebec\, h1z4p3\, Canada
END:VEVENT
BEGIN:VEVENT
DTSTART;TZID=America/Toronto:20170711T200000
DTEND;TZID=America/Toronto:20170711T213000
DTSTAMP:20260422T152747
CREATED:20170508T231138Z
LAST-MODIFIED:20170508T231138Z
UID:1878-1499803200-1499808600@cirquealfonse.com
SUMMARY:Tabarnak @ Montreal\,QC
DESCRIPTION:
URL:https://cirquealfonse.com/representation/tabarnak-montrealqc-6/
LOCATION:TOHU\, 2345\, Jarry Est\, Montreal\, Quebec\, h1z4p3\, Canada
END:VEVENT
END:VCALENDAR