BEGIN:VCALENDAR
VERSION:2.0
PRODID:-//Cirque Alfonse - ECPv6.8.3//NONSGML v1.0//EN
CALSCALE:GREGORIAN
METHOD:PUBLISH
X-WR-CALNAME:Cirque Alfonse
X-ORIGINAL-URL:https://cirquealfonse.com
X-WR-CALDESC:Events for Cirque Alfonse
REFRESH-INTERVAL;VALUE=DURATION:PT1H
X-Robots-Tag:noindex
X-PUBLISHED-TTL:PT1H
BEGIN:VTIMEZONE
TZID:America/Toronto
BEGIN:DAYLIGHT
TZOFFSETFROM:-0500
TZOFFSETTO:-0400
TZNAME:EDT
DTSTART:20170312T070000
END:DAYLIGHT
BEGIN:STANDARD
TZOFFSETFROM:-0400
TZOFFSETTO:-0500
TZNAME:EST
DTSTART:20171105T060000
END:STANDARD
END:VTIMEZONE
BEGIN:VEVENT
DTSTART;TZID=America/Toronto:20171201T190000
DTEND;TZID=America/Toronto:20171201T203000
DTSTAMP:20260422T065516
CREATED:20170606T140602Z
LAST-MODIFIED:20170606T140602Z
UID:1951-1512154800-1512160200@cirquealfonse.com
SUMMARY:Tabarnak @ Rouyn\, QC
DESCRIPTION:
URL:https://cirquealfonse.com/representation/tabarnak-rouyn-qc/
LOCATION:Théâtre du Cuivre\, 145 Tashereau Ouest\, Rouyn-Noranda\, Quebec\, J9X2V5\, Canada
END:VEVENT
BEGIN:VEVENT
DTSTART;TZID=America/Toronto:20171203T150000
DTEND;TZID=America/Toronto:20171203T163000
DTSTAMP:20260422T065516
CREATED:20170606T144630Z
LAST-MODIFIED:20170606T144630Z
UID:1983-1512313200-1512318600@cirquealfonse.com
SUMMARY:Tabarnak @ La Sarre
DESCRIPTION:
URL:https://cirquealfonse.com/representation/tabarnak-la-sarre/
LOCATION:Salle de spectacles Desjardins\, 195 rue Principale\, La Sarre\, quebec\, J9Z1Y3\, Canada
END:VEVENT
BEGIN:VEVENT
DTSTART;TZID=America/Toronto:20171209T200000
DTEND;TZID=America/Toronto:20171209T213000
DTSTAMP:20260422T065516
CREATED:20170606T143543Z
LAST-MODIFIED:20170606T143543Z
UID:1978-1512849600-1512855000@cirquealfonse.com
SUMMARY:Tabarnak @ Joliette\, QC
DESCRIPTION:
URL:https://cirquealfonse.com/representation/tabarnak-joliette-qc/
LOCATION:Centre Culturel de Joliette – Chapiteau\, Joliette\, Canada
END:VEVENT
BEGIN:VEVENT
DTSTART;TZID=America/Toronto:20171215T200000
DTEND;TZID=America/Toronto:20171215T213000
DTSTAMP:20260422T065516
CREATED:20170606T142336Z
LAST-MODIFIED:20170606T142336Z
UID:1962-1513368000-1513373400@cirquealfonse.com
SUMMARY:Tabarnak @ Mont-Laurier\, QC
DESCRIPTION:
URL:https://cirquealfonse.com/representation/tabarnak-mont-laurier-qc/
LOCATION:Espace Théâtre\, Mont-Laurier\, Quebec\, Canada
END:VEVENT
BEGIN:VEVENT
DTSTART;TZID=America/Toronto:20171228T200000
DTEND;TZID=America/Toronto:20171228T213000
DTSTAMP:20260422T065516
CREATED:20170606T142636Z
LAST-MODIFIED:20170606T142636Z
UID:1966-1514491200-1514496600@cirquealfonse.com
SUMMARY:Tabarnak @ St-Jérôme\, QC
DESCRIPTION:
URL:https://cirquealfonse.com/representation/tabarnak-st-jerome-qc/
LOCATION:Salle Gilles Vigneault\, St-Jerome\, Quebec\, Canada
END:VEVENT
BEGIN:VEVENT
DTSTART;TZID=America/Toronto:20171229T200000
DTEND;TZID=America/Toronto:20171229T213000
DTSTAMP:20260422T065516
CREATED:20170606T142958Z
LAST-MODIFIED:20170606T142958Z
UID:1970-1514577600-1514583000@cirquealfonse.com
SUMMARY:Tabarnak @ L'assomption\, QC
DESCRIPTION:
URL:https://cirquealfonse.com/representation/tabarnak-lassomption-qc/
LOCATION:Théâtre Hector-Charland\, qc\, Canada
END:VEVENT
END:VCALENDAR