BEGIN:VCALENDAR
VERSION:2.0
PRODID:-//Cirque Alfonse - ECPv6.8.3//NONSGML v1.0//EN
CALSCALE:GREGORIAN
METHOD:PUBLISH
X-WR-CALNAME:Cirque Alfonse
X-ORIGINAL-URL:https://cirquealfonse.com
X-WR-CALDESC:Events for Cirque Alfonse
REFRESH-INTERVAL;VALUE=DURATION:PT1H
X-Robots-Tag:noindex
X-PUBLISHED-TTL:PT1H
BEGIN:VTIMEZONE
TZID:America/Toronto
BEGIN:DAYLIGHT
TZOFFSETFROM:-0500
TZOFFSETTO:-0400
TZNAME:EDT
DTSTART:20180311T070000
END:DAYLIGHT
BEGIN:STANDARD
TZOFFSETFROM:-0400
TZOFFSETTO:-0500
TZNAME:EST
DTSTART:20181104T060000
END:STANDARD
END:VTIMEZONE
BEGIN:VEVENT
DTSTART;TZID=America/Toronto:20180301T203000
DTEND;TZID=America/Toronto:20180301T213000
DTSTAMP:20260422T020355
CREATED:20171216T182222Z
LAST-MODIFIED:20171216T182222Z
UID:2081-1519936200-1519939800@cirquealfonse.com
SUMMARY:TABARNAK @ Adelaide\, AU
DESCRIPTION:
URL:https://cirquealfonse.com/representation/tabarnak-adelaide-au-10/
LOCATION:Peacock at Gluttony\, Adelaide\, SA\, 5000\, Australie
END:VEVENT
BEGIN:VEVENT
DTSTART;TZID=America/Toronto:20180302T203000
DTEND;TZID=America/Toronto:20180302T213000
DTSTAMP:20260422T020355
CREATED:20171216T182637Z
LAST-MODIFIED:20171216T182637Z
UID:2084-1520022600-1520026200@cirquealfonse.com
SUMMARY:TABARNAK @ Adelaide\, AU
DESCRIPTION:
URL:https://cirquealfonse.com/representation/tabarnak-adelaide-au-11/
END:VEVENT
BEGIN:VEVENT
DTSTART;TZID=America/Toronto:20180303T203000
DTEND;TZID=America/Toronto:20180303T213000
DTSTAMP:20260422T020355
CREATED:20171216T182857Z
LAST-MODIFIED:20171216T182857Z
UID:2087-1520109000-1520112600@cirquealfonse.com
SUMMARY:TABARNAK @ Adelaide\, AU
DESCRIPTION:
URL:https://cirquealfonse.com/representation/tabarnak-adelaide-au-12/
END:VEVENT
BEGIN:VEVENT
DTSTART;TZID=America/Toronto:20180304T160000
DTEND;TZID=America/Toronto:20180304T170000
DTSTAMP:20260422T020355
CREATED:20171216T183031Z
LAST-MODIFIED:20171216T183031Z
UID:2090-1520179200-1520182800@cirquealfonse.com
SUMMARY:TABARNAK @ Adelaide\, AU
DESCRIPTION:
URL:https://cirquealfonse.com/representation/tabarnak-adelaide-au-13/
LOCATION:Peacock at Gluttony\, Adelaide\, SA\, 5000\, Australie
END:VEVENT
BEGIN:VEVENT
DTSTART;TZID=America/Toronto:20180306T203000
DTEND;TZID=America/Toronto:20180306T213000
DTSTAMP:20260422T020355
CREATED:20171216T183325Z
LAST-MODIFIED:20171216T183325Z
UID:2093-1520368200-1520371800@cirquealfonse.com
SUMMARY:TABARNAK @ Adelaide\, AU
DESCRIPTION:
URL:https://cirquealfonse.com/representation/tabarnak-adelaide-au-14/
END:VEVENT
BEGIN:VEVENT
DTSTART;TZID=America/Toronto:20180307T203000
DTEND;TZID=America/Toronto:20180307T213000
DTSTAMP:20260422T020355
CREATED:20171216T183458Z
LAST-MODIFIED:20171216T183458Z
UID:2096-1520454600-1520458200@cirquealfonse.com
SUMMARY:TABARNAK @ Adelaide\, AU
DESCRIPTION:
URL:https://cirquealfonse.com/representation/tabarnak-adelaide-au-15/
LOCATION:Peacock at Gluttony\, Adelaide\, SA\, 5000\, Australie
END:VEVENT
BEGIN:VEVENT
DTSTART;TZID=America/Toronto:20180308T203000
DTEND;TZID=America/Toronto:20180308T213000
DTSTAMP:20260422T020355
CREATED:20171216T183746Z
LAST-MODIFIED:20171216T183746Z
UID:2099-1520541000-1520544600@cirquealfonse.com
SUMMARY:TABARNAK @ Adelaide\, AU
DESCRIPTION:
URL:https://cirquealfonse.com/representation/tabarnak-adelaide-au-16/
LOCATION:Peacock at Gluttony\, Adelaide\, SA\, 5000\, Australie
END:VEVENT
BEGIN:VEVENT
DTSTART;TZID=America/Toronto:20180309T203000
DTEND;TZID=America/Toronto:20180309T213000
DTSTAMP:20260422T020355
CREATED:20171216T184424Z
LAST-MODIFIED:20171216T184424Z
UID:2102-1520627400-1520631000@cirquealfonse.com
SUMMARY:TABARNAK @ Adelaide\, AU
DESCRIPTION:
URL:https://cirquealfonse.com/representation/tabarnak-adelaide-au-17/
LOCATION:Peacock at Gluttony\, Adelaide\, SA\, 5000\, Australie
END:VEVENT
BEGIN:VEVENT
DTSTART;TZID=America/Toronto:20180310T203000
DTEND;TZID=America/Toronto:20180310T213000
DTSTAMP:20260422T020355
CREATED:20171216T184552Z
LAST-MODIFIED:20171216T184552Z
UID:2105-1520713800-1520717400@cirquealfonse.com
SUMMARY:TABARNAK @ Adelaide\, AU
DESCRIPTION:
URL:https://cirquealfonse.com/representation/tabarnak-adelaide-au-18/
LOCATION:Peacock at Gluttony\, Adelaide\, SA\, 5000\, Australie
END:VEVENT
BEGIN:VEVENT
DTSTART;TZID=America/Toronto:20180311T160000
DTEND;TZID=America/Toronto:20180311T170000
DTSTAMP:20260422T020355
CREATED:20171216T184736Z
LAST-MODIFIED:20171216T184736Z
UID:2108-1520784000-1520787600@cirquealfonse.com
SUMMARY:TABARNAK @ Adelaide\, AU
DESCRIPTION:
URL:https://cirquealfonse.com/representation/tabarnak-adelaide-au-19/
LOCATION:Peacock at Gluttony\, Adelaide\, SA\, 5000\, Australie
END:VEVENT
BEGIN:VEVENT
DTSTART;TZID=America/Toronto:20180313T203000
DTEND;TZID=America/Toronto:20180313T213000
DTSTAMP:20260422T020355
CREATED:20171216T185002Z
LAST-MODIFIED:20171216T185025Z
UID:2111-1520973000-1520976600@cirquealfonse.com
SUMMARY:TABARNAK @ Adelaide\, AU
DESCRIPTION:
URL:https://cirquealfonse.com/representation/tabarnak-adelaide-au-20/
LOCATION:Peacock at Gluttony\, Adelaide\, SA\, 5000\, Australie
END:VEVENT
BEGIN:VEVENT
DTSTART;TZID=America/Toronto:20180314T203000
DTEND;TZID=America/Toronto:20180314T213000
DTSTAMP:20260422T020355
CREATED:20171216T185128Z
LAST-MODIFIED:20171216T185128Z
UID:2113-1521059400-1521063000@cirquealfonse.com
SUMMARY:TABARNAK @ Adelaide\, AU
DESCRIPTION:
URL:https://cirquealfonse.com/representation/tabarnak-adelaide-au-21/
LOCATION:Peacock at Gluttony\, Adelaide\, SA\, 5000\, Australie
END:VEVENT
BEGIN:VEVENT
DTSTART;TZID=America/Toronto:20180315T203000
DTEND;TZID=America/Toronto:20180315T213000
DTSTAMP:20260422T020355
CREATED:20171216T185311Z
LAST-MODIFIED:20171216T185311Z
UID:2116-1521145800-1521149400@cirquealfonse.com
SUMMARY:TABARNAK @ Adelaide\, AU
DESCRIPTION:
URL:https://cirquealfonse.com/representation/tabarnak-adelaide-au-22/
LOCATION:Peacock at Gluttony\, Adelaide\, SA\, 5000\, Australie
END:VEVENT
BEGIN:VEVENT
DTSTART;TZID=America/Toronto:20180316T203000
DTEND;TZID=America/Toronto:20180316T213000
DTSTAMP:20260422T020355
CREATED:20171216T185444Z
LAST-MODIFIED:20171216T185444Z
UID:2119-1521232200-1521235800@cirquealfonse.com
SUMMARY:TABARNAK @ Adelaide\, AU
DESCRIPTION:
URL:https://cirquealfonse.com/representation/tabarnak-adelaide-au-23/
LOCATION:Peacock at Gluttony\, Adelaide\, SA\, 5000\, Australie
END:VEVENT
BEGIN:VEVENT
DTSTART;TZID=America/Toronto:20180317T203000
DTEND;TZID=America/Toronto:20180317T213000
DTSTAMP:20260422T020355
CREATED:20171216T185640Z
LAST-MODIFIED:20171216T185640Z
UID:2122-1521318600-1521322200@cirquealfonse.com
SUMMARY:TABARNAK @ Adelaide\, AU
DESCRIPTION:
URL:https://cirquealfonse.com/representation/tabarnak-adelaide-au-24/
LOCATION:Peacock at Gluttony\, Adelaide\, SA\, 5000\, Australie
END:VEVENT
BEGIN:VEVENT
DTSTART;TZID=America/Toronto:20180318T160000
DTEND;TZID=America/Toronto:20180318T170000
DTSTAMP:20260422T020355
CREATED:20171216T185751Z
LAST-MODIFIED:20171216T185751Z
UID:2125-1521388800-1521392400@cirquealfonse.com
SUMMARY:TABARNAK @ Adelaide\, AU
DESCRIPTION:
URL:https://cirquealfonse.com/representation/tabarnak-adelaide-au-25/
LOCATION:Peacock at Gluttony\, Adelaide\, SA\, 5000\, Australie
END:VEVENT
END:VCALENDAR