BEGIN:VCALENDAR
VERSION:2.0
PRODID:-//Cirque Alfonse - ECPv6.8.3//NONSGML v1.0//EN
CALSCALE:GREGORIAN
METHOD:PUBLISH
X-ORIGINAL-URL:https://cirquealfonse.com
X-WR-CALDESC:Events for Cirque Alfonse
REFRESH-INTERVAL;VALUE=DURATION:PT1H
X-Robots-Tag:noindex
X-PUBLISHED-TTL:PT1H
BEGIN:VTIMEZONE
TZID:Europe/Paris
BEGIN:DAYLIGHT
TZOFFSETFROM:+0100
TZOFFSETTO:+0200
TZNAME:CEST
DTSTART:20180325T010000
END:DAYLIGHT
BEGIN:STANDARD
TZOFFSETFROM:+0200
TZOFFSETTO:+0100
TZNAME:CET
DTSTART:20181028T010000
END:STANDARD
TZID:America/Toronto
BEGIN:DAYLIGHT
TZOFFSETFROM:-0500
TZOFFSETTO:-0400
TZNAME:EDT
DTSTART:20180311T070000
END:DAYLIGHT
BEGIN:STANDARD
TZOFFSETFROM:-0400
TZOFFSETTO:-0500
TZNAME:EST
DTSTART:20181104T060000
END:STANDARD
END:VTIMEZONE
BEGIN:VEVENT
DTSTART;TZID=Europe/Paris:20180601T200000
DTEND;TZID=Europe/Paris:20180601T220000
DTSTAMP:20260421T215350
CREATED:20180307T224208Z
LAST-MODIFIED:20180307T224208Z
UID:2173-1527883200-1527890400@cirquealfonse.com
SUMMARY:TABARNAK @ Paris\, Bobino
DESCRIPTION:
URL:https://cirquealfonse.com/representation/tabarnak-paris-bobino-8/
LOCATION:Theatre Bobino\, 14-20 rue de la Gaité\, Paris\, Montparnasse\, 75014
END:VEVENT
BEGIN:VEVENT
DTSTART;TZID=America/Toronto:20180602T160000
DTEND;TZID=America/Toronto:20180602T220000
DTSTAMP:20260421T215350
CREATED:20180307T224305Z
LAST-MODIFIED:20180307T224305Z
UID:2174-1527955200-1527976800@cirquealfonse.com
SUMMARY:TABARNAK @ Paris\, Bobino
DESCRIPTION:
URL:https://cirquealfonse.com/representation/tabarnak-paris-bobino-9/
LOCATION:Theatre Bobino\, 14-20 rue de la Gaité\, Paris\, Montparnasse\, 75014
END:VEVENT
BEGIN:VEVENT
DTSTART;TZID=America/Toronto:20180602T203000
DTEND;TZID=America/Toronto:20180602T203000
DTSTAMP:20260421T215350
CREATED:20180426T002811Z
LAST-MODIFIED:20180426T002811Z
UID:2210-1527971400-1527971400@cirquealfonse.com
SUMMARY:TABARNAK @ Paris\, Bobino
DESCRIPTION:
URL:https://cirquealfonse.com/representation/tabarnak-paris-bobino-16/
LOCATION:Theatre Bobino\, 14-20 rue de la Gaité\, Paris\, Montparnasse\, 75014
END:VEVENT
BEGIN:VEVENT
DTSTART;TZID=America/Toronto:20180606T203000
DTEND;TZID=America/Toronto:20180606T220000
DTSTAMP:20260421T215350
CREATED:20180307T224525Z
LAST-MODIFIED:20180307T224525Z
UID:2179-1528317000-1528322400@cirquealfonse.com
SUMMARY:TABARNAK @ Paris\, Bobino
DESCRIPTION:
URL:https://cirquealfonse.com/representation/tabarnak-paris-bobino-10/
LOCATION:Theatre Bobino\, 14-20 rue de la Gaité\, Paris\, Montparnasse\, 75014
END:VEVENT
BEGIN:VEVENT
DTSTART;TZID=America/Toronto:20180607T203000
DTEND;TZID=America/Toronto:20180607T220000
DTSTAMP:20260421T215350
CREATED:20180307T224557Z
LAST-MODIFIED:20180307T224557Z
UID:2180-1528403400-1528408800@cirquealfonse.com
SUMMARY:TABARNAK @ Paris\, Bobino
DESCRIPTION:
URL:https://cirquealfonse.com/representation/tabarnak-paris-bobino-11/
LOCATION:Theatre Bobino\, 14-20 rue de la Gaité\, Paris\, Montparnasse\, 75014
END:VEVENT
BEGIN:VEVENT
DTSTART;TZID=America/Toronto:20180608T203000
DTEND;TZID=America/Toronto:20180608T220000
DTSTAMP:20260421T215350
CREATED:20180307T224705Z
LAST-MODIFIED:20180307T224705Z
UID:2185-1528489800-1528495200@cirquealfonse.com
SUMMARY:TABARNAK @ Paris\, Bobino
DESCRIPTION:
URL:https://cirquealfonse.com/representation/tabarnak-paris-bobino-12/
LOCATION:Theatre Bobino\, 14-20 rue de la Gaité\, Paris\, Montparnasse\, 75014
END:VEVENT
BEGIN:VEVENT
DTSTART;TZID=America/Toronto:20180609T203000
DTEND;TZID=America/Toronto:20180609T203000
DTSTAMP:20260421T215350
CREATED:20180426T002908Z
LAST-MODIFIED:20180426T002908Z
UID:2213-1528576200-1528576200@cirquealfonse.com
SUMMARY:TABARNAK @ Paris\, Bobino
DESCRIPTION:
URL:https://cirquealfonse.com/representation/tabarnak-paris-bobino-17/
END:VEVENT
BEGIN:VEVENT
DTSTART;TZID=America/Toronto:20180609T203000
DTEND;TZID=America/Toronto:20180609T233000
DTSTAMP:20260421T215350
CREATED:20180307T224750Z
LAST-MODIFIED:20180419T153843Z
UID:2186-1528576200-1528587000@cirquealfonse.com
SUMMARY:TABARNAK @ Paris\, Bobino
DESCRIPTION:
URL:https://cirquealfonse.com/representation/tabarnak-paris-bobino-13/
LOCATION:Theatre Bobino\, 14-20 rue de la Gaité\, Paris\, Montparnasse\, 75014
END:VEVENT
BEGIN:VEVENT
DTSTART;TZID=America/Toronto:20180612T210000
DTEND;TZID=America/Toronto:20180612T210000
DTSTAMP:20260421T215350
CREATED:20180426T004610Z
LAST-MODIFIED:20180426T004610Z
UID:2216-1528837200-1528837200@cirquealfonse.com
SUMMARY:TABARNAK @ Milan\, Italie
DESCRIPTION:
URL:https://cirquealfonse.com/representation/tabarnak-milan-italie/
LOCATION:Triennale Teatro dell’Arte\, Milan\, Italie
END:VEVENT
BEGIN:VEVENT
DTSTART;TZID=America/Toronto:20180613T210000
DTEND;TZID=America/Toronto:20180613T210000
DTSTAMP:20260421T215350
CREATED:20180426T004837Z
LAST-MODIFIED:20180426T004837Z
UID:2221-1528923600-1528923600@cirquealfonse.com
SUMMARY:TABARNAK @ Milan\, Italie
DESCRIPTION:
URL:https://cirquealfonse.com/representation/tabarnak-milan-italie-2/
LOCATION:Triennale Teatro dell’Arte\, Milan\, Italie
END:VEVENT
BEGIN:VEVENT
DTSTART;TZID=America/Toronto:20180614T210000
DTEND;TZID=America/Toronto:20180614T210000
DTSTAMP:20260421T215350
CREATED:20180426T004923Z
LAST-MODIFIED:20180426T004923Z
UID:2224-1529010000-1529010000@cirquealfonse.com
SUMMARY:TABARNAK @ Milan\, Italie
DESCRIPTION:
URL:https://cirquealfonse.com/representation/tabarnak-milan-italie-3/
END:VEVENT
BEGIN:VEVENT
DTSTART;TZID=America/Toronto:20180615T210000
DTEND;TZID=America/Toronto:20180615T210000
DTSTAMP:20260421T215350
CREATED:20180426T005007Z
LAST-MODIFIED:20180426T005028Z
UID:2227-1529096400-1529096400@cirquealfonse.com
SUMMARY:TABARNAK @ Milan\, Italie
DESCRIPTION:
URL:https://cirquealfonse.com/representation/tabarnak-milan-italie-4/
LOCATION:Triennale Teatro dell’Arte\, Milan\, Italie
END:VEVENT
BEGIN:VEVENT
DTSTART;TZID=America/Toronto:20180616T210000
DTEND;TZID=America/Toronto:20180616T210000
DTSTAMP:20260421T215350
CREATED:20180426T005229Z
LAST-MODIFIED:20180426T005229Z
UID:2230-1529182800-1529182800@cirquealfonse.com
SUMMARY:TABARNAK @ Milan\, Italie
DESCRIPTION:
URL:https://cirquealfonse.com/representation/tabarnak-milan-italie-5/
LOCATION:Triennale Teatro dell’Arte\, Milan\, Italie
END:VEVENT
BEGIN:VEVENT
DTSTART;TZID=America/Toronto:20180617T160000
DTEND;TZID=America/Toronto:20180617T160000
DTSTAMP:20260421T215350
CREATED:20180426T005348Z
LAST-MODIFIED:20180426T005411Z
UID:2233-1529251200-1529251200@cirquealfonse.com
SUMMARY:TABARNAK @ Milan\, Italie
DESCRIPTION:
URL:https://cirquealfonse.com/representation/tabarnak-milan-italie-6/
LOCATION:Triennale Teatro dell’Arte\, Milan\, Italie
END:VEVENT
END:VCALENDAR