BEGIN:VCALENDAR
VERSION:2.0
PRODID:-//Cirque Alfonse - ECPv6.8.3//NONSGML v1.0//EN
CALSCALE:GREGORIAN
METHOD:PUBLISH
X-ORIGINAL-URL:https://cirquealfonse.com
X-WR-CALDESC:Events for Cirque Alfonse
REFRESH-INTERVAL;VALUE=DURATION:PT1H
X-Robots-Tag:noindex
X-PUBLISHED-TTL:PT1H
BEGIN:VTIMEZONE
TZID:America/Toronto
BEGIN:DAYLIGHT
TZOFFSETFROM:-0500
TZOFFSETTO:-0400
TZNAME:EDT
DTSTART:20180311T070000
END:DAYLIGHT
BEGIN:STANDARD
TZOFFSETFROM:-0400
TZOFFSETTO:-0500
TZNAME:EST
DTSTART:20181104T060000
END:STANDARD
END:VTIMEZONE
BEGIN:VEVENT
DTSTART;VALUE=DATE:20181002
DTEND;VALUE=DATE:20181003
DTSTAMP:20260421T161123
CREATED:20180814T120315Z
LAST-MODIFIED:20180814T120315Z
UID:2407-1538438400-1538524799@cirquealfonse.com
SUMMARY:TABARNAK @ Mexico\, Mexique
DESCRIPTION:
URL:https://cirquealfonse.com/representation/tabarnak-mexico-mexique/
LOCATION:Esperanza Iris\, Teatro de la ciudad de México
END:VEVENT
BEGIN:VEVENT
DTSTART;VALUE=DATE:20181003
DTEND;VALUE=DATE:20181004
DTSTAMP:20260421T161123
CREATED:20180814T120429Z
LAST-MODIFIED:20180814T120429Z
UID:2411-1538524800-1538611199@cirquealfonse.com
SUMMARY:TABARNAK @ Mexico\, Mexique
DESCRIPTION:
URL:https://cirquealfonse.com/representation/tabarnak-mexico-mexique-2/
END:VEVENT
BEGIN:VEVENT
DTSTART;TZID=America/Toronto:20181006T203000
DTEND;TZID=America/Toronto:20181006T220000
DTSTAMP:20260421T161123
CREATED:20180814T120940Z
LAST-MODIFIED:20180814T120940Z
UID:2414-1538857800-1538863200@cirquealfonse.com
SUMMARY:TABARNAK @ Guadalajara\, Mexique
DESCRIPTION:
URL:https://cirquealfonse.com/representation/tabarnak-guadalajara-mexique/
LOCATION:Teatro Diana
END:VEVENT
BEGIN:VEVENT
DTSTART;TZID=America/Toronto:20181007T203000
DTEND;TZID=America/Toronto:20181007T220000
DTSTAMP:20260421T161123
CREATED:20180814T121147Z
LAST-MODIFIED:20180814T121147Z
UID:2418-1538944200-1538949600@cirquealfonse.com
SUMMARY:TABARNAK @ Guadalajara\, Mexique
DESCRIPTION:
URL:https://cirquealfonse.com/representation/tabarnak-guadalajara-mexique-2/
LOCATION:Teatro Diana
END:VEVENT
BEGIN:VEVENT
DTSTART;VALUE=DATE:20181011
DTEND;VALUE=DATE:20181012
DTSTAMP:20260421T161123
CREATED:20180829T204424Z
LAST-MODIFIED:20180829T204436Z
UID:2532-1539216000-1539302399@cirquealfonse.com
SUMMARY:TABARNAK @ Querétaro
DESCRIPTION:
URL:https://cirquealfonse.com/representation/tabarnak-queretaro/
LOCATION:Plaza de Armas\, Mexique
END:VEVENT
BEGIN:VEVENT
DTSTART;VALUE=DATE:20181012
DTEND;VALUE=DATE:20181013
DTSTAMP:20260421T161123
CREATED:20180829T204523Z
LAST-MODIFIED:20180829T204523Z
UID:2536-1539302400-1539388799@cirquealfonse.com
SUMMARY:TABARNAK @ Querétaro
DESCRIPTION:
URL:https://cirquealfonse.com/representation/tabarnak-queretaro-2/
LOCATION:Plaza de Armas\, Mexique
END:VEVENT
BEGIN:VEVENT
DTSTART;TZID=America/Toronto:20181020T200000
DTEND;TZID=America/Toronto:20181020T213000
DTSTAMP:20260421T161123
CREATED:20180724T095124Z
LAST-MODIFIED:20180724T095124Z
UID:2354-1540065600-1540071000@cirquealfonse.com
SUMMARY:TABARNAK @ Longueuil\, QC
DESCRIPTION:
URL:https://cirquealfonse.com/representation/tabarnak-longueuil-qc/
LOCATION:Théâtre de la Ville\, Longueil\, QC\, Canada
END:VEVENT
BEGIN:VEVENT
DTSTART;TZID=America/Toronto:20181031T200000
DTEND;TZID=America/Toronto:20181031T213000
DTSTAMP:20260421T161123
CREATED:20180628T181640Z
LAST-MODIFIED:20180628T181640Z
UID:2341-1541016000-1541021400@cirquealfonse.com
SUMMARY:BARBU @ Joliette\, QC
DESCRIPTION:
URL:https://cirquealfonse.com/representation/barbu-joliette-qc/
LOCATION:Salle Rolland-Brunelle\, Qc\, Canada
END:VEVENT
END:VCALENDAR