BEGIN:VCALENDAR
VERSION:2.0
PRODID:-//Cirque Alfonse - ECPv6.8.3//NONSGML v1.0//EN
CALSCALE:GREGORIAN
METHOD:PUBLISH
X-ORIGINAL-URL:https://cirquealfonse.com
X-WR-CALDESC:Events for Cirque Alfonse
REFRESH-INTERVAL;VALUE=DURATION:PT1H
X-Robots-Tag:noindex
X-PUBLISHED-TTL:PT1H
BEGIN:VTIMEZONE
TZID:America/Toronto
BEGIN:DAYLIGHT
TZOFFSETFROM:-0500
TZOFFSETTO:-0400
TZNAME:EDT
DTSTART:20180311T070000
END:DAYLIGHT
BEGIN:STANDARD
TZOFFSETFROM:-0400
TZOFFSETTO:-0500
TZNAME:EST
DTSTART:20181104T060000
END:STANDARD
END:VTIMEZONE
BEGIN:VEVENT
DTSTART;TZID=America/Toronto:20181102T193000
DTEND;TZID=America/Toronto:20181102T210000
DTSTAMP:20260421T144237
CREATED:20180628T182017Z
LAST-MODIFIED:20180628T182017Z
UID:2344-1541187000-1541192400@cirquealfonse.com
SUMMARY:TABARNAK @ Baie-Comeau\, QC
DESCRIPTION:
URL:https://cirquealfonse.com/representation/tabarnak-baie-comeau-qc/
LOCATION:Centre des arts de Baie-Comeau\, 1650 rue de Bretagne\, Baie-Comeau\, Québec\, Canada
END:VEVENT
BEGIN:VEVENT
DTSTART;TZID=America/Toronto:20181103T200000
DTEND;TZID=America/Toronto:20181103T213000
DTSTAMP:20260421T144237
CREATED:20180628T182342Z
LAST-MODIFIED:20180628T182342Z
UID:2348-1541275200-1541280600@cirquealfonse.com
SUMMARY:TABARNAK @ Sept-Îles\, QC
DESCRIPTION:
URL:https://cirquealfonse.com/representation/tabarnak-sept-iles-qc/
LOCATION:Salle de spectacle Jean-Marc-Dion
END:VEVENT
BEGIN:VEVENT
DTSTART;TZID=America/Toronto:20181110T200000
DTEND;TZID=America/Toronto:20181110T213000
DTSTAMP:20260421T144237
CREATED:20180611T232741Z
LAST-MODIFIED:20180611T232741Z
UID:2306-1541880000-1541885400@cirquealfonse.com
SUMMARY:TABARNAK @ Terrebonne\, QC
DESCRIPTION:
URL:https://cirquealfonse.com/representation/tabarnak-terrebonne-qc/
LOCATION:Théâtre du Vieux-Terrebonne\, 866\, rue Saint-Pierre\, Terrebonne\, quebec\, Canada
END:VEVENT
BEGIN:VEVENT
DTSTART;TZID=America/Toronto:20181116T200000
DTEND;TZID=America/Toronto:20181116T213000
DTSTAMP:20260421T144237
CREATED:20180808T104328Z
LAST-MODIFIED:20180808T104328Z
UID:2361-1542398400-1542403800@cirquealfonse.com
SUMMARY:TABARNAK @ St-Jean-sur-Richelieu\, QC
DESCRIPTION:
URL:https://cirquealfonse.com/representation/tabarnak-st-jean-sur-richelieu-qc/
LOCATION:Théâtre des Deux Rives\, Saint-Jean-sur-Richelieu\, Canada
END:VEVENT
BEGIN:VEVENT
DTSTART;TZID=America/Toronto:20181123T203000
DTEND;TZID=America/Toronto:20181123T220000
DTSTAMP:20260421T144237
CREATED:20180808T104748Z
LAST-MODIFIED:20180808T104748Z
UID:2365-1543005000-1543010400@cirquealfonse.com
SUMMARY:TABARNAK @ Grenoble\, France
DESCRIPTION:
URL:https://cirquealfonse.com/representation/tabarnak-grenoble-france/
LOCATION:Théâtre Municipal\, Grenoble\, France
END:VEVENT
BEGIN:VEVENT
DTSTART;TZID=America/Toronto:20181124T203000
DTEND;TZID=America/Toronto:20181124T220000
DTSTAMP:20260421T144237
CREATED:20180808T104914Z
LAST-MODIFIED:20180808T104914Z
UID:2369-1543091400-1543096800@cirquealfonse.com
SUMMARY:TABARNAK @ Grenoble\, France
DESCRIPTION:
URL:https://cirquealfonse.com/representation/tabarnak-grenoble-france-2/
LOCATION:Théâtre Municipal\, Grenoble\, France
END:VEVENT
BEGIN:VEVENT
DTSTART;VALUE=DATE:20181127
DTEND;VALUE=DATE:20181128
DTSTAMP:20260421T144237
CREATED:20180628T171027Z
LAST-MODIFIED:20180628T171027Z
UID:2321-1543276800-1543363199@cirquealfonse.com
SUMMARY:TABARNAK @ Romans-sur-Isère\, France
DESCRIPTION:
URL:https://cirquealfonse.com/representation/tabarnak-romans-sur-isere-france/
LOCATION:Théâtre des Cordeliers\, Romans-sur-Isère\, France
END:VEVENT
BEGIN:VEVENT
DTSTART;TZID=America/Toronto:20181130T193000
DTEND;TZID=America/Toronto:20181130T210000
DTSTAMP:20260421T144237
CREATED:20180808T105423Z
LAST-MODIFIED:20180808T105423Z
UID:2372-1543606200-1543611600@cirquealfonse.com
SUMMARY:TABARNAK @ Sankt-Pölten\, Autriche
DESCRIPTION:
URL:https://cirquealfonse.com/representation/tabarnak-sankt-polten-autriche/
LOCATION:Fest Spiel Haus\, Autriche
END:VEVENT
END:VCALENDAR