BEGIN:VCALENDAR
VERSION:2.0
PRODID:-//Cirque Alfonse - ECPv6.8.3//NONSGML v1.0//EN
CALSCALE:GREGORIAN
METHOD:PUBLISH
X-ORIGINAL-URL:https://cirquealfonse.com
X-WR-CALDESC:Events for Cirque Alfonse
REFRESH-INTERVAL;VALUE=DURATION:PT1H
X-Robots-Tag:noindex
X-PUBLISHED-TTL:PT1H
BEGIN:VTIMEZONE
TZID:America/Toronto
BEGIN:DAYLIGHT
TZOFFSETFROM:-0500
TZOFFSETTO:-0400
TZNAME:EDT
DTSTART:20190310T070000
END:DAYLIGHT
BEGIN:STANDARD
TZOFFSETFROM:-0400
TZOFFSETTO:-0500
TZNAME:EST
DTSTART:20191103T060000
END:STANDARD
END:VTIMEZONE
BEGIN:VEVENT
DTSTART;TZID=America/Toronto:20190104T193000
DTEND;TZID=America/Toronto:20190104T210000
DTSTAMP:20260421T111628
CREATED:20181014T221636Z
LAST-MODIFIED:20181014T221636Z
UID:2540-1546630200-1546635600@cirquealfonse.com
SUMMARY:BARBU @ New York\, USA
DESCRIPTION:
URL:https://cirquealfonse.com/representation/barbu-new-york-usa/
LOCATION:NYU Skirball
END:VEVENT
BEGIN:VEVENT
DTSTART;TZID=America/Toronto:20190105T143000
DTEND;TZID=America/Toronto:20190105T160000
DTSTAMP:20260421T111628
CREATED:20181014T221811Z
LAST-MODIFIED:20181014T221811Z
UID:2544-1546698600-1546704000@cirquealfonse.com
SUMMARY:BARBU @ New York\, NY
DESCRIPTION:
URL:https://cirquealfonse.com/representation/barbu-new-york-ny/
LOCATION:NYU Skirball
END:VEVENT
END:VCALENDAR