BEGIN:VCALENDAR
VERSION:2.0
PRODID:-//Cirque Alfonse - ECPv6.8.3//NONSGML v1.0//EN
CALSCALE:GREGORIAN
METHOD:PUBLISH
X-WR-CALNAME:Cirque Alfonse
X-ORIGINAL-URL:https://cirquealfonse.com
X-WR-CALDESC:Events for Cirque Alfonse
REFRESH-INTERVAL;VALUE=DURATION:PT1H
X-Robots-Tag:noindex
X-PUBLISHED-TTL:PT1H
BEGIN:VTIMEZONE
TZID:America/Toronto
BEGIN:DAYLIGHT
TZOFFSETFROM:-0500
TZOFFSETTO:-0400
TZNAME:EDT
DTSTART:20190310T070000
END:DAYLIGHT
BEGIN:STANDARD
TZOFFSETFROM:-0400
TZOFFSETTO:-0500
TZNAME:EST
DTSTART:20191103T060000
END:STANDARD
END:VTIMEZONE
BEGIN:VEVENT
DTSTART;TZID=America/Toronto:20190215T194500
DTEND;TZID=America/Toronto:20190215T210000
DTSTAMP:20260421T093941
CREATED:20190120T140251Z
LAST-MODIFIED:20190120T140251Z
UID:2638-1550259900-1550264400@cirquealfonse.com
SUMMARY:TABARNAK @ Adelaide\, AU
DESCRIPTION:
URL:https://cirquealfonse.com/representation/tabarnak-adelaide-au-35/
LOCATION:Bonython Hall @ RCC Fringe\, The University of Adelaide\, Adelaide\, SA 5005\, Australie
END:VEVENT
BEGIN:VEVENT
DTSTART;TZID=America/Toronto:20190216T074500
DTEND;TZID=America/Toronto:20190216T204500
DTSTAMP:20260421T093941
CREATED:20190120T132332Z
LAST-MODIFIED:20190120T132332Z
UID:2566-1550303100-1550349900@cirquealfonse.com
SUMMARY:BARBU @ Adelaide\, AU
DESCRIPTION:
URL:https://cirquealfonse.com/representation/barbu-adelaide-au-3/
LOCATION:Bonython Hall @ RCC Fringe\, The University of Adelaide\, Adelaide\, SA 5005\, Australie
END:VEVENT
BEGIN:VEVENT
DTSTART;TZID=America/Toronto:20190217T194500
DTEND;TZID=America/Toronto:20190217T204500
DTSTAMP:20260421T093941
CREATED:20190120T132505Z
LAST-MODIFIED:20190120T132505Z
UID:2570-1550432700-1550436300@cirquealfonse.com
SUMMARY:BARBU @ Adelaide\, AU
DESCRIPTION:
URL:https://cirquealfonse.com/representation/barbu-adelaide-au-4/
LOCATION:Bonython Hall @ RCC Fringe\, The University of Adelaide\, Adelaide\, SA 5005\, Australie
END:VEVENT
BEGIN:VEVENT
DTSTART;TZID=America/Toronto:20190219T194500
DTEND;TZID=America/Toronto:20190219T204500
DTSTAMP:20260421T093941
CREATED:20190120T132618Z
LAST-MODIFIED:20190120T132618Z
UID:2573-1550605500-1550609100@cirquealfonse.com
SUMMARY:BARBU @ Adelaide\, AU
DESCRIPTION:
URL:https://cirquealfonse.com/representation/barbu-adelaide-au-5/
LOCATION:Bonython Hall @ RCC Fringe\, The University of Adelaide\, Adelaide\, SA 5005\, Australie
END:VEVENT
BEGIN:VEVENT
DTSTART;TZID=America/Toronto:20190220T194500
DTEND;TZID=America/Toronto:20190220T204500
DTSTAMP:20260421T093941
CREATED:20190120T132715Z
LAST-MODIFIED:20190120T132715Z
UID:2576-1550691900-1550695500@cirquealfonse.com
SUMMARY:BARBU @ Adelaide\, AU
DESCRIPTION:
URL:https://cirquealfonse.com/representation/barbu-adelaide-au-6/
LOCATION:Bonython Hall @ RCC Fringe\, The University of Adelaide\, Adelaide\, SA 5005\, Australie
END:VEVENT
BEGIN:VEVENT
DTSTART;TZID=America/Toronto:20190221T194500
DTEND;TZID=America/Toronto:20190221T204500
DTSTAMP:20260421T093941
CREATED:20190120T132817Z
LAST-MODIFIED:20190120T132817Z
UID:2579-1550778300-1550781900@cirquealfonse.com
SUMMARY:BARBU @ Adelaide\, AU
DESCRIPTION:
URL:https://cirquealfonse.com/representation/barbu-adelaide-au-7/
LOCATION:Bonython Hall @ RCC Fringe\, The University of Adelaide\, Adelaide\, SA 5005\, Australie
END:VEVENT
BEGIN:VEVENT
DTSTART;TZID=America/Toronto:20190222T194500
DTEND;TZID=America/Toronto:20190222T204500
DTSTAMP:20260421T093941
CREATED:20190120T132920Z
LAST-MODIFIED:20190120T132920Z
UID:2582-1550864700-1550868300@cirquealfonse.com
SUMMARY:BARBU @ Adelaide\, AU
DESCRIPTION:
URL:https://cirquealfonse.com/representation/barbu-adelaide-au-8/
LOCATION:Bonython Hall @ RCC Fringe\, The University of Adelaide\, Adelaide\, SA 5005\, Australie
END:VEVENT
BEGIN:VEVENT
DTSTART;TZID=America/Toronto:20190223T194500
DTEND;TZID=America/Toronto:20190223T204500
DTSTAMP:20260421T093941
CREATED:20190120T133338Z
LAST-MODIFIED:20190120T133338Z
UID:2585-1550951100-1550954700@cirquealfonse.com
SUMMARY:BARBU @ Adelaide\, AU
DESCRIPTION:
URL:https://cirquealfonse.com/representation/barbu-adelaide-au-9/
LOCATION:Bonython Hall @ RCC Fringe\, The University of Adelaide\, Adelaide\, SA 5005\, Australie
END:VEVENT
BEGIN:VEVENT
DTSTART;TZID=America/Toronto:20190224T194500
DTEND;TZID=America/Toronto:20190224T204500
DTSTAMP:20260421T093941
CREATED:20190120T133438Z
LAST-MODIFIED:20190120T133438Z
UID:2588-1551037500-1551041100@cirquealfonse.com
SUMMARY:BARBU @ Adelaide\, AU
DESCRIPTION:
URL:https://cirquealfonse.com/representation/barbu-adelaide-au-10/
LOCATION:Bonython Hall @ RCC Fringe\, The University of Adelaide\, Adelaide\, SA 5005\, Australie
END:VEVENT
BEGIN:VEVENT
DTSTART;TZID=America/Toronto:20190226T194500
DTEND;TZID=America/Toronto:20190226T204500
DTSTAMP:20260421T093941
CREATED:20190120T133542Z
LAST-MODIFIED:20190120T133542Z
UID:2591-1551210300-1551213900@cirquealfonse.com
SUMMARY:BARBU @ Adelaide\, AU
DESCRIPTION:
URL:https://cirquealfonse.com/representation/barbu-adelaide-au-11/
LOCATION:Bonython Hall @ RCC Fringe\, The University of Adelaide\, Adelaide\, SA 5005\, Australie
END:VEVENT
BEGIN:VEVENT
DTSTART;TZID=America/Toronto:20190227T194500
DTEND;TZID=America/Toronto:20190227T204500
DTSTAMP:20260421T093941
CREATED:20190120T133658Z
LAST-MODIFIED:20190120T133658Z
UID:2594-1551296700-1551300300@cirquealfonse.com
SUMMARY:BARBU @ Adelaide\, AU
DESCRIPTION:
URL:https://cirquealfonse.com/representation/barbu-adelaide-au-12/
LOCATION:Bonython Hall @ RCC Fringe\, The University of Adelaide\, Adelaide\, SA 5005\, Australie
END:VEVENT
BEGIN:VEVENT
DTSTART;TZID=America/Toronto:20190228T194500
DTEND;TZID=America/Toronto:20190228T204500
DTSTAMP:20260421T093941
CREATED:20190120T133753Z
LAST-MODIFIED:20190120T133753Z
UID:2597-1551383100-1551386700@cirquealfonse.com
SUMMARY:BARBU @ Adelaide\, AU
DESCRIPTION:
URL:https://cirquealfonse.com/representation/barbu-adelaide-au-13/
LOCATION:Bonython Hall @ RCC Fringe\, The University of Adelaide\, Adelaide\, SA 5005\, Australie
END:VEVENT
END:VCALENDAR