BEGIN:VCALENDAR
VERSION:2.0
PRODID:-//Cirque Alfonse - ECPv6.8.3//NONSGML v1.0//EN
CALSCALE:GREGORIAN
METHOD:PUBLISH
X-WR-CALNAME:Cirque Alfonse
X-ORIGINAL-URL:https://cirquealfonse.com
X-WR-CALDESC:Events for Cirque Alfonse
REFRESH-INTERVAL;VALUE=DURATION:PT1H
X-Robots-Tag:noindex
X-PUBLISHED-TTL:PT1H
BEGIN:VTIMEZONE
TZID:America/Toronto
BEGIN:DAYLIGHT
TZOFFSETFROM:-0500
TZOFFSETTO:-0400
TZNAME:EDT
DTSTART:20190310T070000
END:DAYLIGHT
BEGIN:STANDARD
TZOFFSETFROM:-0400
TZOFFSETTO:-0500
TZNAME:EST
DTSTART:20191103T060000
END:STANDARD
END:VTIMEZONE
BEGIN:VEVENT
DTSTART;TZID=America/Toronto:20190301T194500
DTEND;TZID=America/Toronto:20190301T233000
DTSTAMP:20260421T080752
CREATED:20190120T133850Z
LAST-MODIFIED:20190120T133850Z
UID:2600-1551469500-1551483000@cirquealfonse.com
SUMMARY:BARBU @ Adelaide\, AU
DESCRIPTION:
URL:https://cirquealfonse.com/representation/barbu-adelaide-au-14/
LOCATION:Bonython Hall @ RCC Fringe\, The University of Adelaide\, Adelaide\, SA 5005\, Australie
END:VEVENT
BEGIN:VEVENT
DTSTART;TZID=America/Toronto:20190302T194500
DTEND;TZID=America/Toronto:20190302T204500
DTSTAMP:20260421T080752
CREATED:20190120T133957Z
LAST-MODIFIED:20190120T133957Z
UID:2603-1551555900-1551559500@cirquealfonse.com
SUMMARY:BARBU @ Adelaide\, AU
DESCRIPTION:
URL:https://cirquealfonse.com/representation/barbu-adelaide-au-15/
LOCATION:Bonython Hall @ RCC Fringe\, The University of Adelaide\, Adelaide\, SA 5005\, Australie
END:VEVENT
BEGIN:VEVENT
DTSTART;TZID=America/Toronto:20190303T194500
DTEND;TZID=America/Toronto:20190303T204500
DTSTAMP:20260421T080752
CREATED:20190120T134103Z
LAST-MODIFIED:20190120T134103Z
UID:2606-1551642300-1551645900@cirquealfonse.com
SUMMARY:BARBU @ Adelaide\, AU
DESCRIPTION:
URL:https://cirquealfonse.com/representation/barbu-adelaide-au-16/
LOCATION:Bonython Hall @ RCC Fringe\, The University of Adelaide\, Adelaide\, SA 5005\, Australie
END:VEVENT
BEGIN:VEVENT
DTSTART;TZID=America/Toronto:20190305T194500
DTEND;TZID=America/Toronto:20190305T204500
DTSTAMP:20260421T080752
CREATED:20190120T135156Z
LAST-MODIFIED:20190120T135156Z
UID:2609-1551815100-1551818700@cirquealfonse.com
SUMMARY:TABARNAK @ Adelaide\, AU
DESCRIPTION:
URL:https://cirquealfonse.com/representation/tabarnak-adelaide-au-26/
LOCATION:Bonython Hall @ RCC Fringe\, The University of Adelaide\, Adelaide\, SA 5005\, Australie
END:VEVENT
BEGIN:VEVENT
DTSTART;TZID=America/Toronto:20190306T194500
DTEND;TZID=America/Toronto:20190306T210000
DTSTAMP:20260421T080752
CREATED:20190120T135410Z
LAST-MODIFIED:20190120T135410Z
UID:2614-1551901500-1551906000@cirquealfonse.com
SUMMARY:TABARNAK @ Adelaide\, AU
DESCRIPTION:
URL:https://cirquealfonse.com/representation/tabarnak-adelaide-au-27/
LOCATION:Bonython Hall @ RCC Fringe\, The University of Adelaide\, Adelaide\, SA 5005\, Australie
END:VEVENT
BEGIN:VEVENT
DTSTART;TZID=America/Toronto:20190307T194500
DTEND;TZID=America/Toronto:20190307T210000
DTSTAMP:20260421T080752
CREATED:20190120T135510Z
LAST-MODIFIED:20190120T135510Z
UID:2617-1551987900-1551992400@cirquealfonse.com
SUMMARY:TABARNAK @ Adelaide\, AU
DESCRIPTION:
URL:https://cirquealfonse.com/representation/tabarnak-adelaide-au-28/
LOCATION:Bonython Hall @ RCC Fringe\, The University of Adelaide\, Adelaide\, SA 5005\, Australie
END:VEVENT
BEGIN:VEVENT
DTSTART;TZID=America/Toronto:20190308T194500
DTEND;TZID=America/Toronto:20190308T210000
DTSTAMP:20260421T080752
CREATED:20190120T135703Z
LAST-MODIFIED:20190120T135703Z
UID:2620-1552074300-1552078800@cirquealfonse.com
SUMMARY:TABARNAK @ Adelaide\, AU
DESCRIPTION:
URL:https://cirquealfonse.com/representation/tabarnak-adelaide-au-29/
LOCATION:Bonython Hall @ RCC Fringe\, The University of Adelaide\, Adelaide\, SA 5005\, Australie
END:VEVENT
BEGIN:VEVENT
DTSTART;TZID=America/Toronto:20190309T194500
DTEND;TZID=America/Toronto:20190309T210000
DTSTAMP:20260421T080752
CREATED:20190120T135803Z
LAST-MODIFIED:20190120T135803Z
UID:2623-1552160700-1552165200@cirquealfonse.com
SUMMARY:TABARNAK @ Adelaide\, AU
DESCRIPTION:
URL:https://cirquealfonse.com/representation/tabarnak-adelaide-au-30/
LOCATION:Bonython Hall @ RCC Fringe\, The University of Adelaide\, Adelaide\, SA 5005\, Australie
END:VEVENT
BEGIN:VEVENT
DTSTART;TZID=America/Toronto:20190310T194500
DTEND;TZID=America/Toronto:20190310T210000
DTSTAMP:20260421T080752
CREATED:20190120T135910Z
LAST-MODIFIED:20190120T135910Z
UID:2626-1552247100-1552251600@cirquealfonse.com
SUMMARY:TABARNAK @ Adelaide\, AU
DESCRIPTION:
URL:https://cirquealfonse.com/representation/tabarnak-adelaide-au-31/
LOCATION:Bonython Hall @ RCC Fringe\, The University of Adelaide\, Adelaide\, SA 5005\, Australie
END:VEVENT
BEGIN:VEVENT
DTSTART;TZID=America/Toronto:20190312T194500
DTEND;TZID=America/Toronto:20190312T210000
DTSTAMP:20260421T080752
CREATED:20190120T140004Z
LAST-MODIFIED:20190120T140004Z
UID:2629-1552419900-1552424400@cirquealfonse.com
SUMMARY:TABARNAK @ Adelaide\, AU
DESCRIPTION:
URL:https://cirquealfonse.com/representation/tabarnak-adelaide-au-32/
LOCATION:Bonython Hall @ RCC Fringe\, The University of Adelaide\, Adelaide\, SA 5005\, Australie
END:VEVENT
BEGIN:VEVENT
DTSTART;TZID=America/Toronto:20190313T194500
DTEND;TZID=America/Toronto:20190313T210000
DTSTAMP:20260421T080752
CREATED:20190120T140101Z
LAST-MODIFIED:20190120T140101Z
UID:2632-1552506300-1552510800@cirquealfonse.com
SUMMARY:TABARNAK @ Adelaide\, AU
DESCRIPTION:
URL:https://cirquealfonse.com/representation/tabarnak-adelaide-au-33/
LOCATION:Bonython Hall @ RCC Fringe\, The University of Adelaide\, Adelaide\, SA 5005\, Australie
END:VEVENT
BEGIN:VEVENT
DTSTART;TZID=America/Toronto:20190314T194500
DTEND;TZID=America/Toronto:20190314T210000
DTSTAMP:20260421T080752
CREATED:20190120T140152Z
LAST-MODIFIED:20190120T140152Z
UID:2635-1552592700-1552597200@cirquealfonse.com
SUMMARY:TABARNAK @ Adelaide\, AU
DESCRIPTION:
URL:https://cirquealfonse.com/representation/tabarnak-adelaide-au-34/
LOCATION:Bonython Hall @ RCC Fringe\, The University of Adelaide\, Adelaide\, SA 5005\, Australie
END:VEVENT
BEGIN:VEVENT
DTSTART;TZID=America/Toronto:20190316T194500
DTEND;TZID=America/Toronto:20190316T210000
DTSTAMP:20260421T080752
CREATED:20190120T140537Z
LAST-MODIFIED:20190120T140537Z
UID:2641-1552765500-1552770000@cirquealfonse.com
SUMMARY:TABARNAK @ Adelaide\, AU
DESCRIPTION:
URL:https://cirquealfonse.com/representation/tabarnak-adelaide-au-36/
LOCATION:Bonython Hall @ RCC Fringe\, The University of Adelaide\, Adelaide\, SA 5005\, Australie
END:VEVENT
BEGIN:VEVENT
DTSTART;TZID=America/Toronto:20190317T194500
DTEND;TZID=America/Toronto:20190317T210000
DTSTAMP:20260421T080752
CREATED:20190120T140631Z
LAST-MODIFIED:20190120T140631Z
UID:2644-1552851900-1552856400@cirquealfonse.com
SUMMARY:TABARNAK @ Adelaide\, AU
DESCRIPTION:
URL:https://cirquealfonse.com/representation/tabarnak-adelaide-au-37/
LOCATION:Bonython Hall @ RCC Fringe\, The University of Adelaide\, Adelaide\, SA 5005\, Australie
END:VEVENT
END:VCALENDAR