BEGIN:VCALENDAR
VERSION:2.0
PRODID:-//Cirque Alfonse - ECPv6.8.3//NONSGML v1.0//EN
CALSCALE:GREGORIAN
METHOD:PUBLISH
X-ORIGINAL-URL:https://cirquealfonse.com
X-WR-CALDESC:Events for Cirque Alfonse
REFRESH-INTERVAL;VALUE=DURATION:PT1H
X-Robots-Tag:noindex
X-PUBLISHED-TTL:PT1H
BEGIN:VTIMEZONE
TZID:America/Toronto
BEGIN:DAYLIGHT
TZOFFSETFROM:-0500
TZOFFSETTO:-0400
TZNAME:EDT
DTSTART:20190310T070000
END:DAYLIGHT
BEGIN:STANDARD
TZOFFSETFROM:-0400
TZOFFSETTO:-0500
TZNAME:EST
DTSTART:20191103T060000
END:STANDARD
END:VTIMEZONE
BEGIN:VEVENT
DTSTART;TZID=America/Toronto:20190620T200000
DTEND;TZID=America/Toronto:20190620T213000
DTSTAMP:20260421T033453
CREATED:20190429T132449Z
LAST-MODIFIED:20190429T132449Z
UID:2676-1561060800-1561066200@cirquealfonse.com
SUMMARY:BARBU @ Ann Arbor Summer Festival\, USA
DESCRIPTION:
URL:https://cirquealfonse.com/representation/barbu-ann-arbor-summer-festival-usa/
LOCATION:Ann Arbor Summer Festival\, Michigan\, États-Unis
END:VEVENT
BEGIN:VEVENT
DTSTART;TZID=America/Toronto:20190621T200000
DTEND;TZID=America/Toronto:20190621T213000
DTSTAMP:20260421T033453
CREATED:20190429T132612Z
LAST-MODIFIED:20190429T132612Z
UID:2680-1561147200-1561152600@cirquealfonse.com
SUMMARY:BARBU @ Ann Arbor Summer Festival\, USA
DESCRIPTION:
URL:https://cirquealfonse.com/representation/barbu-ann-arbor-summer-festival-usa-2/
LOCATION:Ann Arbor Summer Festival\, Michigan\, États-Unis
END:VEVENT
END:VCALENDAR