BEGIN:VCALENDAR
VERSION:2.0
PRODID:-//Cirque Alfonse - ECPv6.8.3//NONSGML v1.0//EN
CALSCALE:GREGORIAN
METHOD:PUBLISH
X-ORIGINAL-URL:https://cirquealfonse.com
X-WR-CALDESC:Events for Cirque Alfonse
REFRESH-INTERVAL;VALUE=DURATION:PT1H
X-Robots-Tag:noindex
X-PUBLISHED-TTL:PT1H
BEGIN:VTIMEZONE
TZID:America/Toronto
BEGIN:DAYLIGHT
TZOFFSETFROM:-0500
TZOFFSETTO:-0400
TZNAME:EDT
DTSTART:20190310T070000
END:DAYLIGHT
BEGIN:STANDARD
TZOFFSETFROM:-0400
TZOFFSETTO:-0500
TZNAME:EST
DTSTART:20191103T060000
END:STANDARD
END:VTIMEZONE
BEGIN:VEVENT
DTSTART;TZID=America/Toronto:20190808T200000
DTEND;TZID=America/Toronto:20190808T213000
DTSTAMP:20260421T001935
CREATED:20190429T124829Z
LAST-MODIFIED:20190429T124829Z
UID:2657-1565294400-1565299800@cirquealfonse.com
SUMMARY:TABARNAK @ Sziget Festival\, Budapest
DESCRIPTION:
URL:https://cirquealfonse.com/representation/tabarnak-sziget-festival-budapest/
LOCATION:Sziget Festival\, Hongrie
END:VEVENT
BEGIN:VEVENT
DTSTART;TZID=America/Toronto:20190809T200000
DTEND;TZID=America/Toronto:20190809T213000
DTSTAMP:20260421T001935
CREATED:20190429T124949Z
LAST-MODIFIED:20190429T124949Z
UID:2661-1565380800-1565386200@cirquealfonse.com
SUMMARY:TABARNAK @ Sziget Festival\, Budapest
DESCRIPTION:
URL:https://cirquealfonse.com/representation/tabarnak-sziget-festival-budapest-2/
LOCATION:Sziget Festival\, Hongrie
END:VEVENT
BEGIN:VEVENT
DTSTART;TZID=America/Toronto:20190810T200000
DTEND;TZID=America/Toronto:20190810T213000
DTSTAMP:20260421T001935
CREATED:20190429T125057Z
LAST-MODIFIED:20190429T125057Z
UID:2664-1565467200-1565472600@cirquealfonse.com
SUMMARY:TABARNAK @ Sziget Festival\, Budapest
DESCRIPTION:
URL:https://cirquealfonse.com/representation/tabarnak-sziget-festival-budapest-3/
LOCATION:Sziget Festival\, Hongrie
END:VEVENT
BEGIN:VEVENT
DTSTART;TZID=America/Toronto:20190811T200000
DTEND;TZID=America/Toronto:20190811T213000
DTSTAMP:20260421T001935
CREATED:20190429T125217Z
LAST-MODIFIED:20190429T125217Z
UID:2667-1565553600-1565559000@cirquealfonse.com
SUMMARY:TABARNAK @ Sziget Festival\, Budapest
DESCRIPTION:
URL:https://cirquealfonse.com/representation/tabarnak-sziget-festival-budapest-4/
LOCATION:Sziget Festival\, Hongrie
END:VEVENT
BEGIN:VEVENT
DTSTART;TZID=America/Toronto:20190812T200000
DTEND;TZID=America/Toronto:20190812T213000
DTSTAMP:20260421T001935
CREATED:20190429T125337Z
LAST-MODIFIED:20190429T125337Z
UID:2670-1565640000-1565645400@cirquealfonse.com
SUMMARY:TABARNAK @ Sziget Festival\, Budapest
DESCRIPTION:
URL:https://cirquealfonse.com/representation/tabarnak-sziget-festival-budapest-5/
LOCATION:Sziget Festival\, Hongrie
END:VEVENT
BEGIN:VEVENT
DTSTART;TZID=America/Toronto:20190813T200000
DTEND;TZID=America/Toronto:20190813T213000
DTSTAMP:20260421T001935
CREATED:20190429T125446Z
LAST-MODIFIED:20190429T125446Z
UID:2673-1565726400-1565731800@cirquealfonse.com
SUMMARY:TABARNAK @ Sziget Festival\, Budapest
DESCRIPTION:
URL:https://cirquealfonse.com/representation/tabarnak-sziget-festival-budapest-6/
LOCATION:Sziget Festival\, Hongrie
END:VEVENT
BEGIN:VEVENT
DTSTART;TZID=America/Toronto:20190815T190000
DTEND;TZID=America/Toronto:20190815T203000
DTSTAMP:20260421T001935
CREATED:20190523T143300Z
LAST-MODIFIED:20190523T143300Z
UID:2684-1565895600-1565901000@cirquealfonse.com
SUMMARY:TABARNAK @ Prague\, CZ
DESCRIPTION:
URL:https://cirquealfonse.com/representation/tabarnak-prague-cz/
LOCATION:LetNiLetNa festival\, Letensky Park\, République Tchèque
END:VEVENT
BEGIN:VEVENT
DTSTART;TZID=America/Toronto:20190816T200000
DTEND;TZID=America/Toronto:20190816T213000
DTSTAMP:20260421T001935
CREATED:20190523T143456Z
LAST-MODIFIED:20190523T143456Z
UID:2688-1565985600-1565991000@cirquealfonse.com
SUMMARY:TABARNAK @ Prague\, CZ
DESCRIPTION:
URL:https://cirquealfonse.com/representation/tabarnak-prague-cz-2/
LOCATION:LetNiLetNa festival\, Letensky Park\, République Tchèque
END:VEVENT
BEGIN:VEVENT
DTSTART;TZID=America/Toronto:20190817T200000
DTEND;TZID=America/Toronto:20190817T213000
DTSTAMP:20260421T001935
CREATED:20190523T143815Z
LAST-MODIFIED:20190523T143815Z
UID:2692-1566072000-1566077400@cirquealfonse.com
SUMMARY:TABARNAK @ Prague\, CZ
DESCRIPTION:
URL:https://cirquealfonse.com/representation/tabarnak-prague-cz-3/
LOCATION:LetNiLetNa festival\, Letensky Park\, République Tchèque
END:VEVENT
BEGIN:VEVENT
DTSTART;TZID=America/Toronto:20190819T190000
DTEND;TZID=America/Toronto:20190819T203000
DTSTAMP:20260421T001935
CREATED:20190523T144014Z
LAST-MODIFIED:20190523T144014Z
UID:2695-1566241200-1566246600@cirquealfonse.com
SUMMARY:TABARNAK @ Prague\, CZ
DESCRIPTION:
URL:https://cirquealfonse.com/representation/tabarnak-prague-cz-4/
LOCATION:LetNiLetNa festival\, Letensky Park\, République Tchèque
END:VEVENT
BEGIN:VEVENT
DTSTART;TZID=America/Toronto:20190820T190000
DTEND;TZID=America/Toronto:20190820T203000
DTSTAMP:20260421T001935
CREATED:20190523T144145Z
LAST-MODIFIED:20190523T144145Z
UID:2698-1566327600-1566333000@cirquealfonse.com
SUMMARY:TABARNAK @ Prague\, CZ
DESCRIPTION:
URL:https://cirquealfonse.com/representation/tabarnak-prague-cz-5/
LOCATION:LetNiLetNa festival\, Letensky Park\, République Tchèque
END:VEVENT
BEGIN:VEVENT
DTSTART;TZID=America/Toronto:20190822T190000
DTEND;TZID=America/Toronto:20190822T203000
DTSTAMP:20260421T001935
CREATED:20190523T144309Z
LAST-MODIFIED:20190523T144309Z
UID:2701-1566500400-1566505800@cirquealfonse.com
SUMMARY:TABARNAK @ Prague\, CZ
DESCRIPTION:
URL:https://cirquealfonse.com/representation/tabarnak-prague-cz-6/
LOCATION:LetNiLetNa festival\, Letensky Park\, République Tchèque
END:VEVENT
BEGIN:VEVENT
DTSTART;TZID=America/Toronto:20190823T203000
DTEND;TZID=America/Toronto:20190823T220000
DTSTAMP:20260421T001935
CREATED:20190523T144429Z
LAST-MODIFIED:20190523T144429Z
UID:2704-1566592200-1566597600@cirquealfonse.com
SUMMARY:TABARNAK @ Prague
DESCRIPTION:
URL:https://cirquealfonse.com/representation/tabarnak-prague/
LOCATION:LetNiLetNa festival\, Letensky Park\, République Tchèque
END:VEVENT
BEGIN:VEVENT
DTSTART;TZID=America/Toronto:20190824T190000
DTEND;TZID=America/Toronto:20190824T203000
DTSTAMP:20260421T001935
CREATED:20190523T144545Z
LAST-MODIFIED:20190523T144545Z
UID:2707-1566673200-1566678600@cirquealfonse.com
SUMMARY:TABARNAK @ Prague\, CZ
DESCRIPTION:
URL:https://cirquealfonse.com/representation/tabarnak-prague-cz-7/
LOCATION:LetNiLetNa festival\, Letensky Park\, République Tchèque
END:VEVENT
BEGIN:VEVENT
DTSTART;TZID=America/Toronto:20190826T190000
DTEND;TZID=America/Toronto:20190826T203000
DTSTAMP:20260421T001935
CREATED:20190523T144654Z
LAST-MODIFIED:20190523T144654Z
UID:2710-1566846000-1566851400@cirquealfonse.com
SUMMARY:TABARNAK @ Prague\, CZ
DESCRIPTION:
URL:https://cirquealfonse.com/representation/tabarnak-prague-cz-8/
LOCATION:LetNiLetNa festival\, Letensky Park\, République Tchèque
END:VEVENT
BEGIN:VEVENT
DTSTART;TZID=America/Toronto:20190827T190000
DTEND;TZID=America/Toronto:20190827T203000
DTSTAMP:20260421T001935
CREATED:20190523T144811Z
LAST-MODIFIED:20190523T144811Z
UID:2713-1566932400-1566937800@cirquealfonse.com
SUMMARY:TABARNAK @ Prague\, CZ
DESCRIPTION:
URL:https://cirquealfonse.com/representation/tabarnak-prague-cz-9/
LOCATION:LetNiLetNa festival\, Letensky Park\, République Tchèque
END:VEVENT
BEGIN:VEVENT
DTSTART;TZID=America/Toronto:20190828T190000
DTEND;TZID=America/Toronto:20190828T203000
DTSTAMP:20260421T001935
CREATED:20190523T144918Z
LAST-MODIFIED:20190523T144918Z
UID:2716-1567018800-1567024200@cirquealfonse.com
SUMMARY:TABARNAK @ Prague. CZ
DESCRIPTION:
URL:https://cirquealfonse.com/representation/tabarnak-prague-cz-10/
LOCATION:LetNiLetNa festival\, Letensky Park\, République Tchèque
END:VEVENT
BEGIN:VEVENT
DTSTART;TZID=America/Toronto:20190829T190000
DTEND;TZID=America/Toronto:20190829T203000
DTSTAMP:20260421T001935
CREATED:20190523T145034Z
LAST-MODIFIED:20190523T145034Z
UID:2719-1567105200-1567110600@cirquealfonse.com
SUMMARY:TABARNAK @ Prague\, CZ
DESCRIPTION:
URL:https://cirquealfonse.com/representation/tabarnak-prague-cz-11/
LOCATION:LetNiLetNa festival\, Letensky Park\, République Tchèque
END:VEVENT
BEGIN:VEVENT
DTSTART;TZID=America/Toronto:20190831T190000
DTEND;TZID=America/Toronto:20190831T203000
DTSTAMP:20260421T001935
CREATED:20190523T145143Z
LAST-MODIFIED:20190523T145143Z
UID:2722-1567278000-1567283400@cirquealfonse.com
SUMMARY:TABARNAK @ Prague\, CZ
DESCRIPTION:
URL:https://cirquealfonse.com/representation/tabarnak-prague-cz-12/
LOCATION:LetNiLetNa festival\, Letensky Park\, République Tchèque
END:VEVENT
END:VCALENDAR