BEGIN:VCALENDAR
VERSION:2.0
PRODID:-//Cirque Alfonse - ECPv6.8.3//NONSGML v1.0//EN
CALSCALE:GREGORIAN
METHOD:PUBLISH
X-ORIGINAL-URL:https://cirquealfonse.com
X-WR-CALDESC:Events for Cirque Alfonse
REFRESH-INTERVAL;VALUE=DURATION:PT1H
X-Robots-Tag:noindex
X-PUBLISHED-TTL:PT1H
BEGIN:VTIMEZONE
TZID:America/Toronto
BEGIN:DAYLIGHT
TZOFFSETFROM:-0500
TZOFFSETTO:-0400
TZNAME:EDT
DTSTART:20200308T070000
END:DAYLIGHT
BEGIN:STANDARD
TZOFFSETFROM:-0400
TZOFFSETTO:-0500
TZNAME:EST
DTSTART:20201101T060000
END:STANDARD
END:VTIMEZONE
BEGIN:VEVENT
DTSTART;TZID=America/Toronto:20200102T190000
DTEND;TZID=America/Toronto:20200102T203000
DTSTAMP:20260420T165855
CREATED:20190823T093412Z
LAST-MODIFIED:20190823T093412Z
UID:2821-1577991600-1577997000@cirquealfonse.com
SUMMARY:TABARNAK @ Alby\, SW
DESCRIPTION:
URL:https://cirquealfonse.com/representation/tabarnak-alby-sw-5/
LOCATION:Subtopia\, Albyvägen 38\, Norsborg\, 145 57\, Suède
END:VEVENT
BEGIN:VEVENT
DTSTART;TZID=America/Toronto:20200103T190000
DTEND;TZID=America/Toronto:20200103T203000
DTSTAMP:20260420T165855
CREATED:20190823T093537Z
LAST-MODIFIED:20190823T093537Z
UID:2824-1578078000-1578083400@cirquealfonse.com
SUMMARY:TABARNAK @ Alby\, SW
DESCRIPTION:
URL:https://cirquealfonse.com/representation/tabarnak-alby-sw-6/
LOCATION:Subtopia\, Albyvägen 38\, Norsborg\, 145 57\, Suède
END:VEVENT
BEGIN:VEVENT
DTSTART;TZID=America/Toronto:20200104T150000
DTEND;TZID=America/Toronto:20200104T163000
DTSTAMP:20260420T165855
CREATED:20190823T093651Z
LAST-MODIFIED:20190823T093651Z
UID:2827-1578150000-1578155400@cirquealfonse.com
SUMMARY:TABARNAK @ Alby\, SW
DESCRIPTION:
URL:https://cirquealfonse.com/representation/tabarnak-alby-sw-7/
LOCATION:Subtopia\, Albyvägen 38\, Norsborg\, 145 57\, Suède
END:VEVENT
BEGIN:VEVENT
DTSTART;TZID=America/Toronto:20200105T150000
DTEND;TZID=America/Toronto:20200105T163000
DTSTAMP:20260420T165855
CREATED:20190823T093754Z
LAST-MODIFIED:20190823T093754Z
UID:2830-1578236400-1578241800@cirquealfonse.com
SUMMARY:TABARNAK @ Alby\, SW
DESCRIPTION:
URL:https://cirquealfonse.com/representation/tabarnak-alby-sw-8/
LOCATION:Subtopia\, Albyvägen 38\, Norsborg\, 145 57\, Suède
END:VEVENT
BEGIN:VEVENT
DTSTART;TZID=America/Toronto:20200106T150000
DTEND;TZID=America/Toronto:20200106T163000
DTSTAMP:20260420T165855
CREATED:20190823T093913Z
LAST-MODIFIED:20190823T093913Z
UID:2833-1578322800-1578328200@cirquealfonse.com
SUMMARY:TABARNAK @ Alby\, SW
DESCRIPTION:
URL:https://cirquealfonse.com/representation/tabarnak-alby-sw-9/
LOCATION:Subtopia\, Albyvägen 38\, Norsborg\, 145 57\, Suède
END:VEVENT
BEGIN:VEVENT
DTSTART;TZID=America/Toronto:20200108T190000
DTEND;TZID=America/Toronto:20200108T203000
DTSTAMP:20260420T165855
CREATED:20190823T094444Z
LAST-MODIFIED:20190823T094444Z
UID:2836-1578510000-1578515400@cirquealfonse.com
SUMMARY:TABARNAK @ Espoo\, FI
DESCRIPTION:
URL:https://cirquealfonse.com/representation/tabarnak-espoo-fi/
LOCATION:Louhi Hall\, Espoo\, Finlande
END:VEVENT
BEGIN:VEVENT
DTSTART;TZID=America/Toronto:20200109T200000
DTEND;TZID=America/Toronto:20200109T213000
DTSTAMP:20260420T165855
CREATED:20190823T094629Z
LAST-MODIFIED:20190823T094629Z
UID:2840-1578600000-1578605400@cirquealfonse.com
SUMMARY:TABARNAK @ Espoo\, FI
DESCRIPTION:
URL:https://cirquealfonse.com/representation/tabarnak-espoo-fi-2/
LOCATION:Louhi Hall\, Espoo\, Finlande
END:VEVENT
BEGIN:VEVENT
DTSTART;TZID=America/Toronto:20200110T190000
DTEND;TZID=America/Toronto:20200110T203000
DTSTAMP:20260420T165855
CREATED:20190823T094747Z
LAST-MODIFIED:20190823T094747Z
UID:2843-1578682800-1578688200@cirquealfonse.com
SUMMARY:TABARNAK @ Espoo\, FI
DESCRIPTION:
URL:https://cirquealfonse.com/representation/tabarnak-espoo-fi-3/
LOCATION:Louhi Hall\, Espoo\, Finlande
END:VEVENT
BEGIN:VEVENT
DTSTART;TZID=America/Toronto:20200111T150000
DTEND;TZID=America/Toronto:20200111T163000
DTSTAMP:20260420T165855
CREATED:20190823T094848Z
LAST-MODIFIED:20190823T094848Z
UID:2845-1578754800-1578760200@cirquealfonse.com
SUMMARY:TABARNAK @ Espoo\, FI
DESCRIPTION:
URL:https://cirquealfonse.com/representation/tabarnak-espoo-fi-4/
LOCATION:Louhi Hall\, Espoo\, Finlande
END:VEVENT
BEGIN:VEVENT
DTSTART;TZID=America/Toronto:20200130T200000
DTEND;TZID=America/Toronto:20200130T213000
DTSTAMP:20260420T165855
CREATED:20191227T104622Z
LAST-MODIFIED:20191227T104622Z
UID:2971-1580414400-1580419800@cirquealfonse.com
SUMMARY:TABARNAK @ Bogota\, COL
DESCRIPTION:
URL:https://cirquealfonse.com/representation/tabarnak-bogota-col/
LOCATION:Teatro Mayor\, Colombie
END:VEVENT
BEGIN:VEVENT
DTSTART;TZID=America/Toronto:20200131T200000
DTEND;TZID=America/Toronto:20200131T213000
DTSTAMP:20260420T165855
CREATED:20191227T104749Z
LAST-MODIFIED:20191227T104749Z
UID:2975-1580500800-1580506200@cirquealfonse.com
SUMMARY:TABARNAK @ Bogota\, COL
DESCRIPTION:
URL:https://cirquealfonse.com/representation/tabarnak-bogota-col-2/
LOCATION:Teatro Mayor\, Colombie
END:VEVENT
END:VCALENDAR