BEGIN:VCALENDAR
VERSION:2.0
PRODID:-//Cirque Alfonse - ECPv6.8.3//NONSGML v1.0//EN
CALSCALE:GREGORIAN
METHOD:PUBLISH
X-WR-CALNAME:Cirque Alfonse
X-ORIGINAL-URL:https://cirquealfonse.com/en/
X-WR-CALDESC:Events for Cirque Alfonse
REFRESH-INTERVAL;VALUE=DURATION:PT1H
X-Robots-Tag:noindex
X-PUBLISHED-TTL:PT1H
BEGIN:VTIMEZONE
TZID:America/Toronto
BEGIN:DAYLIGHT
TZOFFSETFROM:-0500
TZOFFSETTO:-0400
TZNAME:EDT
DTSTART:20230312T070000
END:DAYLIGHT
BEGIN:STANDARD
TZOFFSETFROM:-0400
TZOFFSETTO:-0500
TZNAME:EST
DTSTART:20231105T060000
END:STANDARD
END:VTIMEZONE
BEGIN:VEVENT
DTSTART;TZID=America/Toronto:20230706T190000
DTEND;TZID=America/Toronto:20230715T190000
DTSTAMP:20260419T172615
CREATED:20230508T191133Z
LAST-MODIFIED:20230508T192330Z
UID:3757-1688670000-1689447600@cirquealfonse.com
SUMMARY:Barbu@Montréal Complètement Cirque
DESCRIPTION:
URL:https://cirquealfonse.com/en/representation/barbumontreal-completement-cirque-2/
LOCATION:Espace Saint-Denis\, 1594 R. Saint-Denis\, Montreal\, Québec\, H2X 3K2
END:VEVENT
END:VCALENDAR