BEGIN:VCALENDAR
VERSION:2.0
PRODID:-//Cirque Alfonse - ECPv6.8.3//NONSGML v1.0//EN
CALSCALE:GREGORIAN
METHOD:PUBLISH
X-ORIGINAL-URL:https://cirquealfonse.com/en/
X-WR-CALDESC:Events for Cirque Alfonse
REFRESH-INTERVAL;VALUE=DURATION:PT1H
X-Robots-Tag:noindex
X-PUBLISHED-TTL:PT1H
BEGIN:VTIMEZONE
TZID:America/Toronto
BEGIN:DAYLIGHT
TZOFFSETFROM:-0500
TZOFFSETTO:-0400
TZNAME:EDT
DTSTART:20240310T070000
END:DAYLIGHT
BEGIN:STANDARD
TZOFFSETFROM:-0400
TZOFFSETTO:-0500
TZNAME:EST
DTSTART:20241103T060000
END:STANDARD
END:VTIMEZONE
BEGIN:VEVENT
DTSTART;TZID=America/Toronto:20240627T210000
DTEND;TZID=America/Toronto:20240627T220000
DTSTAMP:20260422T150635
CREATED:20240508T185943Z
LAST-MODIFIED:20240508T185943Z
UID:3919-1719522000-1719525600@cirquealfonse.com
SUMMARY:BARBU @ Festival Bastringue\, Joliette
DESCRIPTION:
URL:https://cirquealfonse.com/en/representation/barbu-festival-bastringue-joliette/
LOCATION:Centre Culturel de Joliette – Chapiteau\, Joliette\, Canada
END:VEVENT
END:VCALENDAR