BEGIN:VCALENDAR
VERSION:2.0
PRODID:-//Cirque Alfonse - ECPv6.8.3//NONSGML v1.0//EN
CALSCALE:GREGORIAN
METHOD:PUBLISH
X-ORIGINAL-URL:https://cirquealfonse.com/en/
X-WR-CALDESC:Events for Cirque Alfonse
REFRESH-INTERVAL;VALUE=DURATION:PT1H
X-Robots-Tag:noindex
X-PUBLISHED-TTL:PT1H
BEGIN:VTIMEZONE
TZID:America/Toronto
BEGIN:DAYLIGHT
TZOFFSETFROM:-0500
TZOFFSETTO:-0400
TZNAME:EDT
DTSTART:20240310T070000
END:DAYLIGHT
BEGIN:STANDARD
TZOFFSETFROM:-0400
TZOFFSETTO:-0500
TZNAME:EST
DTSTART:20241103T060000
END:STANDARD
END:VTIMEZONE
BEGIN:VEVENT
DTSTART;TZID=America/Toronto:20240612T193000
DTEND;TZID=America/Toronto:20240612T203000
DTSTAMP:20260422T132245
CREATED:20240508T183922Z
LAST-MODIFIED:20240508T183922Z
UID:3879-1718220600-1718224200@cirquealfonse.com
SUMMARY:BARBU @ Vancouver\, The Cultch
DESCRIPTION:
URL:https://cirquealfonse.com/en/representation/barbu-vancouver-the-cultch/
LOCATION:The Cultch
END:VEVENT
BEGIN:VEVENT
DTSTART;TZID=America/Toronto:20240613T193000
DTEND;TZID=America/Toronto:20240613T203000
DTSTAMP:20260422T132245
CREATED:20240508T184103Z
LAST-MODIFIED:20240508T184103Z
UID:3883-1718307000-1718310600@cirquealfonse.com
SUMMARY:BARBU @ Vancouver\, The Cultch
DESCRIPTION:
URL:https://cirquealfonse.com/en/representation/barbu-vancouver-the-cultch-2/
LOCATION:The Cultch
END:VEVENT
BEGIN:VEVENT
DTSTART;TZID=America/Toronto:20240614T193000
DTEND;TZID=America/Toronto:20240614T203000
DTSTAMP:20260422T132245
CREATED:20240508T184314Z
LAST-MODIFIED:20240508T184314Z
UID:3887-1718393400-1718397000@cirquealfonse.com
SUMMARY:BARBU @ Vancouver\, The Cultch
DESCRIPTION:
URL:https://cirquealfonse.com/en/representation/barbu-vancouver-the-cultch-3/
LOCATION:The Cultch
END:VEVENT
BEGIN:VEVENT
DTSTART;TZID=America/Toronto:20240615T193000
DTEND;TZID=America/Toronto:20240615T203000
DTSTAMP:20260422T132245
CREATED:20240508T184445Z
LAST-MODIFIED:20240508T184445Z
UID:3891-1718479800-1718483400@cirquealfonse.com
SUMMARY:BARBU @ Vancouver\, The Cultch
DESCRIPTION:
URL:https://cirquealfonse.com/en/representation/barbu-vancouver-the-cultch-4/
LOCATION:The Cultch
END:VEVENT
BEGIN:VEVENT
DTSTART;TZID=America/Toronto:20240616T193000
DTEND;TZID=America/Toronto:20240616T203000
DTSTAMP:20260422T132245
CREATED:20240508T184611Z
LAST-MODIFIED:20240508T184611Z
UID:3895-1718566200-1718569800@cirquealfonse.com
SUMMARY:BARBU @ Vancouver\, The Cultch
DESCRIPTION:
URL:https://cirquealfonse.com/en/representation/barbu-vancouver-the-cultch-5/
LOCATION:The Cultch
END:VEVENT
BEGIN:VEVENT
DTSTART;TZID=America/Toronto:20240619T193000
DTEND;TZID=America/Toronto:20240619T203000
DTSTAMP:20260422T132245
CREATED:20240508T184815Z
LAST-MODIFIED:20240508T184815Z
UID:3899-1718825400-1718829000@cirquealfonse.com
SUMMARY:BARBU @ Vancouver\, The Cultch
DESCRIPTION:
URL:https://cirquealfonse.com/en/representation/barbu-vancouver-the-cultch-6/
LOCATION:The Cultch
END:VEVENT
BEGIN:VEVENT
DTSTART;TZID=America/Toronto:20240620T193000
DTEND;TZID=America/Toronto:20240620T203000
DTSTAMP:20260422T132245
CREATED:20240508T184952Z
LAST-MODIFIED:20240508T184952Z
UID:3903-1718911800-1718915400@cirquealfonse.com
SUMMARY:BARBU @ Vancouver\, The Cultch
DESCRIPTION:
URL:https://cirquealfonse.com/en/representation/barbu-vancouver-the-cultch-7/
LOCATION:The Cultch
END:VEVENT
BEGIN:VEVENT
DTSTART;TZID=America/Toronto:20240621T193000
DTEND;TZID=America/Toronto:20240621T203000
DTSTAMP:20260422T132245
CREATED:20240508T185121Z
LAST-MODIFIED:20240508T185121Z
UID:3907-1718998200-1719001800@cirquealfonse.com
SUMMARY:BARBU @ Vancouver\, The Cultch
DESCRIPTION:
URL:https://cirquealfonse.com/en/representation/barbu-vancouver-the-cultch-8/
LOCATION:The Cultch
END:VEVENT
BEGIN:VEVENT
DTSTART;TZID=America/Toronto:20240622T193000
DTEND;TZID=America/Toronto:20240622T203000
DTSTAMP:20260422T132245
CREATED:20240508T185253Z
LAST-MODIFIED:20240508T185253Z
UID:3911-1719084600-1719088200@cirquealfonse.com
SUMMARY:BARBU @ Vancouver\, The Cultch
DESCRIPTION:
URL:https://cirquealfonse.com/en/representation/barbu-vancouver-the-cultch-9/
LOCATION:The Cultch
END:VEVENT
BEGIN:VEVENT
DTSTART;TZID=America/Toronto:20240623T193000
DTEND;TZID=America/Toronto:20240623T203000
DTSTAMP:20260422T132245
CREATED:20240508T185414Z
LAST-MODIFIED:20240508T185414Z
UID:3915-1719171000-1719174600@cirquealfonse.com
SUMMARY:BARBU @ Vancouver\, The Cultch
DESCRIPTION:
URL:https://cirquealfonse.com/en/representation/barbu-vancouver-the-cultch-10/
LOCATION:The Cultch
END:VEVENT
BEGIN:VEVENT
DTSTART;TZID=America/Toronto:20240627T210000
DTEND;TZID=America/Toronto:20240627T220000
DTSTAMP:20260422T132245
CREATED:20240508T185943Z
LAST-MODIFIED:20240508T185943Z
UID:3919-1719522000-1719525600@cirquealfonse.com
SUMMARY:BARBU @ Festival Bastringue\, Joliette
DESCRIPTION:
URL:https://cirquealfonse.com/en/representation/barbu-festival-bastringue-joliette/
LOCATION:Centre Culturel de Joliette – Chapiteau\, Joliette\, Canada
END:VEVENT
BEGIN:VEVENT
DTSTART;TZID=America/Toronto:20240629T210000
DTEND;TZID=America/Toronto:20240629T220000
DTSTAMP:20260422T132245
CREATED:20240508T190124Z
LAST-MODIFIED:20240508T190124Z
UID:3923-1719694800-1719698400@cirquealfonse.com
SUMMARY:BARBU @ Festival Bastringue\, Joliette
DESCRIPTION:
URL:https://cirquealfonse.com/en/representation/barbu-festival-bastringue-joliette-2/
LOCATION:Centre Culturel de Joliette – Chapiteau\, Joliette\, Canada
END:VEVENT
END:VCALENDAR