BEGIN:VCALENDAR
VERSION:2.0
PRODID:-//Cirque Alfonse - ECPv6.8.3//NONSGML v1.0//EN
CALSCALE:GREGORIAN
METHOD:PUBLISH
X-WR-CALNAME:Cirque Alfonse
X-ORIGINAL-URL:https://cirquealfonse.com/en/
X-WR-CALDESC:Events for Cirque Alfonse
REFRESH-INTERVAL;VALUE=DURATION:PT1H
X-Robots-Tag:noindex
X-PUBLISHED-TTL:PT1H
BEGIN:VTIMEZONE
TZID:America/Toronto
BEGIN:DAYLIGHT
TZOFFSETFROM:-0500
TZOFFSETTO:-0400
TZNAME:EDT
DTSTART:20240310T070000
END:DAYLIGHT
BEGIN:STANDARD
TZOFFSETFROM:-0400
TZOFFSETTO:-0500
TZNAME:EST
DTSTART:20241103T060000
END:STANDARD
END:VTIMEZONE
BEGIN:VEVENT
DTSTART;TZID=America/Toronto:20240703T193000
DTEND;TZID=America/Toronto:20240703T210000
DTSTAMP:20260422T113956
CREATED:20240523T173020Z
LAST-MODIFIED:20240523T173020Z
UID:3931-1720035000-1720040400@cirquealfonse.com
SUMMARY:BARBU @ Montreal\, St-Denis
DESCRIPTION:
URL:https://cirquealfonse.com/en/representation/barbu-montreal-st-denis/
LOCATION:Espace Saint-Denis\, 1594 R. Saint-Denis\, Montreal\, Québec\, H2X 3K2
END:VEVENT
BEGIN:VEVENT
DTSTART;TZID=America/Toronto:20240704T193000
DTEND;TZID=America/Toronto:20240704T210000
DTSTAMP:20260422T113956
CREATED:20240523T173232Z
LAST-MODIFIED:20240523T173232Z
UID:3935-1720121400-1720126800@cirquealfonse.com
SUMMARY:BARBU @ Montreal\, Espace St-Denis
DESCRIPTION:
URL:https://cirquealfonse.com/en/representation/barbu-montreal-espace-st-denis/
LOCATION:Espace Saint-Denis\, 1594 R. Saint-Denis\, Montreal\, Québec\, H2X 3K2
END:VEVENT
BEGIN:VEVENT
DTSTART;TZID=America/Toronto:20240705T193000
DTEND;TZID=America/Toronto:20240705T210000
DTSTAMP:20260422T113956
CREATED:20240523T173410Z
LAST-MODIFIED:20240523T173410Z
UID:3939-1720207800-1720213200@cirquealfonse.com
SUMMARY:BARBU @ Montreal\, Espace St-Denis
DESCRIPTION:
URL:https://cirquealfonse.com/en/representation/barbu-montreal-espace-st-denis-2/
LOCATION:Espace Saint-Denis\, 1594 R. Saint-Denis\, Montreal\, Québec\, H2X 3K2
END:VEVENT
BEGIN:VEVENT
DTSTART;TZID=America/Toronto:20240706T193000
DTEND;TZID=America/Toronto:20240706T210000
DTSTAMP:20260422T113956
CREATED:20240523T173546Z
LAST-MODIFIED:20240523T173546Z
UID:3943-1720294200-1720299600@cirquealfonse.com
SUMMARY:BARBU @ Montreal\, Espace St-Denis
DESCRIPTION:
URL:https://cirquealfonse.com/en/representation/barbu-montreal-espace-st-denis-3/
LOCATION:Espace Saint-Denis\, 1594 R. Saint-Denis\, Montreal\, Québec\, H2X 3K2
END:VEVENT
BEGIN:VEVENT
DTSTART;TZID=America/Toronto:20240707T193000
DTEND;TZID=America/Toronto:20240707T210000
DTSTAMP:20260422T113956
CREATED:20240523T173726Z
LAST-MODIFIED:20240523T173726Z
UID:3948-1720380600-1720386000@cirquealfonse.com
SUMMARY:BARBU @ Montreal\, Espace St-Denis
DESCRIPTION:
URL:https://cirquealfonse.com/en/representation/barbu-montreal-espace-st-denis-4/
LOCATION:Espace Saint-Denis\, 1594 R. Saint-Denis\, Montreal\, Québec\, H2X 3K2
END:VEVENT
BEGIN:VEVENT
DTSTART;TZID=America/Toronto:20240709T080000
DTEND;TZID=America/Toronto:20240709T170000
DTSTAMP:20260422T113956
CREATED:20240523T173858Z
LAST-MODIFIED:20240523T173858Z
UID:3952-1720512000-1720544400@cirquealfonse.com
SUMMARY:BARBU @ Montreal\, Espace St-Denis
DESCRIPTION:
URL:https://cirquealfonse.com/en/representation/barbu-montreal-espace-st-denis-5/
LOCATION:Espace Saint-Denis\, 1594 R. Saint-Denis\, Montreal\, Québec\, H2X 3K2
END:VEVENT
BEGIN:VEVENT
DTSTART;TZID=America/Toronto:20240710T193000
DTEND;TZID=America/Toronto:20240710T210000
DTSTAMP:20260422T113956
CREATED:20240523T174036Z
LAST-MODIFIED:20240523T174036Z
UID:3956-1720639800-1720645200@cirquealfonse.com
SUMMARY:BARBU @ Montreal\, Espace St-Denis
DESCRIPTION:
URL:https://cirquealfonse.com/en/representation/barbu-montreal-espace-st-denis-6/
LOCATION:Espace Saint-Denis\, 1594 R. Saint-Denis\, Montreal\, Québec\, H2X 3K2
END:VEVENT
BEGIN:VEVENT
DTSTART;TZID=America/Toronto:20240711T193000
DTEND;TZID=America/Toronto:20240711T210000
DTSTAMP:20260422T113956
CREATED:20240523T174229Z
LAST-MODIFIED:20240523T174229Z
UID:3960-1720726200-1720731600@cirquealfonse.com
SUMMARY:BARBU @ Montreal\, Espace St-Denis
DESCRIPTION:
URL:https://cirquealfonse.com/en/representation/barbu-montreal-espace-st-denis-7/
LOCATION:Espace Saint-Denis\, 1594 R. Saint-Denis\, Montreal\, Québec\, H2X 3K2
END:VEVENT
BEGIN:VEVENT
DTSTART;TZID=America/Toronto:20240712T193000
DTEND;TZID=America/Toronto:20240712T210000
DTSTAMP:20260422T113956
CREATED:20240523T174420Z
LAST-MODIFIED:20240523T174420Z
UID:3964-1720812600-1720818000@cirquealfonse.com
SUMMARY:BARBU @ Montreal\, Espace St-Denis
DESCRIPTION:
URL:https://cirquealfonse.com/en/representation/barbu-montreal-espace-st-denis-8/
LOCATION:Espace Saint-Denis\, 1594 R. Saint-Denis\, Montreal\, Québec\, H2X 3K2
END:VEVENT
BEGIN:VEVENT
DTSTART;TZID=America/Toronto:20240713T193000
DTEND;TZID=America/Toronto:20240713T210000
DTSTAMP:20260422T113956
CREATED:20240523T174558Z
LAST-MODIFIED:20240523T174558Z
UID:3968-1720899000-1720904400@cirquealfonse.com
SUMMARY:BARBU @ Montreal\, Espace St-Denis
DESCRIPTION:
URL:https://cirquealfonse.com/en/representation/barbu-montreal-espace-st-denis-9/
LOCATION:Espace Saint-Denis\, 1594 R. Saint-Denis\, Montreal\, Québec\, H2X 3K2
END:VEVENT
BEGIN:VEVENT
DTSTART;TZID=America/Toronto:20240714T193000
DTEND;TZID=America/Toronto:20240714T210000
DTSTAMP:20260422T113956
CREATED:20240523T174740Z
LAST-MODIFIED:20240523T174740Z
UID:3972-1720985400-1720990800@cirquealfonse.com
SUMMARY:BARBU @ Montreal\, Espace St-Denis
DESCRIPTION:
URL:https://cirquealfonse.com/en/representation/barbu-montreal-espace-st-denis-10/
LOCATION:Espace Saint-Denis\, 1594 R. Saint-Denis\, Montreal\, Québec\, H2X 3K2
END:VEVENT
BEGIN:VEVENT
DTSTART;TZID=America/Toronto:20240718T203000
DTEND;TZID=America/Toronto:20240718T220000
DTSTAMP:20260422T113956
CREATED:20240523T175516Z
LAST-MODIFIED:20240523T175516Z
UID:3977-1721334600-1721340000@cirquealfonse.com
SUMMARY:BARBU @ Festival de Cirque des Îles-de-la-Madeleine
DESCRIPTION:
URL:https://cirquealfonse.com/en/representation/barbu-festival-de-cirque-des-iles-de-la-madeleine/
LOCATION:Chapiteau\, Cap-aux-meules
END:VEVENT
BEGIN:VEVENT
DTSTART;TZID=America/Toronto:20240719T203000
DTEND;TZID=America/Toronto:20240719T220000
DTSTAMP:20260422T113956
CREATED:20240523T175708Z
LAST-MODIFIED:20240523T175708Z
UID:3981-1721421000-1721426400@cirquealfonse.com
SUMMARY:BARBU @ Festival de Cirque des Îles-de-la-Madeleine
DESCRIPTION:
URL:https://cirquealfonse.com/en/representation/barbu-festival-de-cirque-des-iles-de-la-madeleine-2/
LOCATION:Chapiteau\, Cap-aux-meules
END:VEVENT
BEGIN:VEVENT
DTSTART;TZID=America/Toronto:20240720T203000
DTEND;TZID=America/Toronto:20240720T220000
DTSTAMP:20260422T113956
CREATED:20240523T175850Z
LAST-MODIFIED:20240523T175850Z
UID:3985-1721507400-1721512800@cirquealfonse.com
SUMMARY:BARBU @ Festival de Cirque des Îles-de-la-Madeleine
DESCRIPTION:
URL:https://cirquealfonse.com/en/representation/barbu-festival-de-cirque-des-iles-de-la-madeleine-3/
LOCATION:Chapiteau\, Cap-aux-meules
END:VEVENT
BEGIN:VEVENT
DTSTART;TZID=America/Toronto:20240721T080000
DTEND;TZID=America/Toronto:20240721T170000
DTSTAMP:20260422T113956
CREATED:20240523T180028Z
LAST-MODIFIED:20240523T180028Z
UID:3989-1721548800-1721581200@cirquealfonse.com
SUMMARY:BARBU @ Festival de Cirque des Îles-de-la-Madeleine
DESCRIPTION:
URL:https://cirquealfonse.com/en/representation/barbu-festival-de-cirque-des-iles-de-la-madeleine-4/
LOCATION:Chapiteau\, Cap-aux-meules
END:VEVENT
BEGIN:VEVENT
DTSTART;TZID=America/Toronto:20240722T080000
DTEND;TZID=America/Toronto:20240722T170000
DTSTAMP:20260422T113956
CREATED:20240523T180329Z
LAST-MODIFIED:20240523T180329Z
UID:3993-1721635200-1721667600@cirquealfonse.com
SUMMARY:BARBU @ Festival de Cirque des Îles-de-la-Madeleine
DESCRIPTION:
URL:https://cirquealfonse.com/en/representation/barbu-festival-de-cirque-des-iles-de-la-madeleine-5/
LOCATION:Chapiteau\, Cap-aux-meules
END:VEVENT
BEGIN:VEVENT
DTSTART;TZID=America/Toronto:20240723T203000
DTEND;TZID=America/Toronto:20240723T210000
DTSTAMP:20260422T113956
CREATED:20240523T181333Z
LAST-MODIFIED:20240523T181333Z
UID:4000-1721766600-1721768400@cirquealfonse.com
SUMMARY:BARBU @ Festival de Cirque-des-Îles-de-la-Madeleine
DESCRIPTION:
URL:https://cirquealfonse.com/en/representation/barbu-festival-de-cirque-des-iles-de-la-madeleine-6/
LOCATION:Chapiteau\, Cap-aux-meules
END:VEVENT
END:VCALENDAR