BEGIN:VCALENDAR
VERSION:2.0
PRODID:-//Cirque Alfonse - ECPv6.8.3//NONSGML v1.0//EN
CALSCALE:GREGORIAN
METHOD:PUBLISH
X-WR-CALNAME:Cirque Alfonse
X-ORIGINAL-URL:https://cirquealfonse.com/en/
X-WR-CALDESC:Events for Cirque Alfonse
REFRESH-INTERVAL;VALUE=DURATION:PT1H
X-Robots-Tag:noindex
X-PUBLISHED-TTL:PT1H
BEGIN:VTIMEZONE
TZID:America/Toronto
BEGIN:DAYLIGHT
TZOFFSETFROM:-0500
TZOFFSETTO:-0400
TZNAME:EDT
DTSTART:20240310T070000
END:DAYLIGHT
BEGIN:STANDARD
TZOFFSETFROM:-0400
TZOFFSETTO:-0500
TZNAME:EST
DTSTART:20241103T060000
END:STANDARD
END:VTIMEZONE
BEGIN:VEVENT
DTSTART;TZID=America/Toronto:20241107T203000
DTEND;TZID=America/Toronto:20241107T220000
DTSTAMP:20260422T045958
CREATED:20240919T133246Z
LAST-MODIFIED:20240919T133246Z
UID:4006-1731011400-1731016800@cirquealfonse.com
SUMMARY:ANIMAL @ Châlons-en-champagne
DESCRIPTION:
URL:https://cirquealfonse.com/en/representation/animal-chalons-en-champagne/
LOCATION:La Comète\, 5 rue des Fripiers\, Châlons-en-Champagne\, France
END:VEVENT
BEGIN:VEVENT
DTSTART;TZID=America/Toronto:20241108T193000
DTEND;TZID=America/Toronto:20241108T220000
DTSTAMP:20260422T045958
CREATED:20240919T133436Z
LAST-MODIFIED:20240919T133436Z
UID:4010-1731094200-1731103200@cirquealfonse.com
SUMMARY:ANIMAL @ Châlons-en-champagne
DESCRIPTION:
URL:https://cirquealfonse.com/en/representation/animal-chalons-en-champagne-2/
LOCATION:La Comète\, 5 rue des Fripiers\, Châlons-en-Champagne\, France
END:VEVENT
BEGIN:VEVENT
DTSTART;TZID=America/Toronto:20241113T200000
DTEND;TZID=America/Toronto:20241113T200000
DTSTAMP:20260422T045958
CREATED:20240919T134922Z
LAST-MODIFIED:20240919T134922Z
UID:4015-1731528000-1731528000@cirquealfonse.com
SUMMARY:ANIMAL @ Grenoble\, FR
DESCRIPTION:
URL:https://cirquealfonse.com/en/representation/animal-grenoble-fr/
LOCATION:Maison de la Culture Grenoble
END:VEVENT
BEGIN:VEVENT
DTSTART;TZID=America/Toronto:20241114T200000
DTEND;TZID=America/Toronto:20241114T213000
DTSTAMP:20260422T045958
CREATED:20240919T135118Z
LAST-MODIFIED:20240919T135118Z
UID:4019-1731614400-1731619800@cirquealfonse.com
SUMMARY:ANIMAL @ Grenoble\, FR
DESCRIPTION:
URL:https://cirquealfonse.com/en/representation/animal-grenoble-fr-2/
LOCATION:Maison de la Culture Grenoble
END:VEVENT
BEGIN:VEVENT
DTSTART;TZID=America/Toronto:20241115T200000
DTEND;TZID=America/Toronto:20241115T213000
DTSTAMP:20260422T045958
CREATED:20240919T135245Z
LAST-MODIFIED:20240919T135245Z
UID:4023-1731700800-1731706200@cirquealfonse.com
SUMMARY:ANIMAL @ Grenoble\, FR
DESCRIPTION:
URL:https://cirquealfonse.com/en/representation/animal-grenoble-fr-3/
LOCATION:Maison de la Culture Grenoble
END:VEVENT
BEGIN:VEVENT
DTSTART;TZID=America/Toronto:20241117T160000
DTEND;TZID=America/Toronto:20241117T173000
DTSTAMP:20260422T045958
CREATED:20240919T153900Z
LAST-MODIFIED:20240919T153900Z
UID:4028-1731859200-1731864600@cirquealfonse.com
SUMMARY:ANIMAL @ Vernouillet\, FR
DESCRIPTION:
URL:https://cirquealfonse.com/en/representation/animal-vernouillet-fr/
LOCATION:L’atelier à Spectacle
END:VEVENT
BEGIN:VEVENT
DTSTART;TZID=America/Toronto:20241121T203000
DTEND;TZID=America/Toronto:20241121T220000
DTSTAMP:20260422T045958
CREATED:20240919T154750Z
LAST-MODIFIED:20240919T154750Z
UID:4033-1732221000-1732226400@cirquealfonse.com
SUMMARY:ANIMAL @ Oyonnax\, FR
DESCRIPTION:
URL:https://cirquealfonse.com/en/representation/animal-oyonnax-fr/
LOCATION:Centre Culturel d’Aragon
END:VEVENT
BEGIN:VEVENT
DTSTART;TZID=America/Toronto:20241124T170000
DTEND;TZID=America/Toronto:20241124T183000
DTSTAMP:20260422T045958
CREATED:20240919T155419Z
LAST-MODIFIED:20240919T155419Z
UID:4042-1732467600-1732473000@cirquealfonse.com
SUMMARY:ANIMAL @ Fribourg\, Suisse
DESCRIPTION:
URL:https://cirquealfonse.com/en/representation/animal-fribourg-suisse/
LOCATION:Équilibre
END:VEVENT
BEGIN:VEVENT
DTSTART;TZID=America/Toronto:20241129T200000
DTEND;TZID=America/Toronto:20241129T213000
DTSTAMP:20260422T045958
CREATED:20240919T160132Z
LAST-MODIFIED:20240919T160132Z
UID:4047-1732910400-1732915800@cirquealfonse.com
SUMMARY:ANIMAL @ Aix-en-Provence\, FR
DESCRIPTION:
URL:https://cirquealfonse.com/en/representation/animal-aix-en-provence-fr/
LOCATION:Les Theatres
END:VEVENT
BEGIN:VEVENT
DTSTART;TZID=America/Toronto:20241130T150000
DTEND;TZID=America/Toronto:20241130T163000
DTSTAMP:20260422T045958
CREATED:20240919T160307Z
LAST-MODIFIED:20240919T160307Z
UID:4051-1732978800-1732984200@cirquealfonse.com
SUMMARY:ANIMAL @ Aix-en-Provence\, FR
DESCRIPTION:
URL:https://cirquealfonse.com/en/representation/animal-aix-en-provence-fr-2/
LOCATION:Les Theatres
END:VEVENT
END:VCALENDAR